BEGIN:VCALENDAR
VERSION:2.0
PRODID:-//MJC La maisoun - ECPv5.14.1//NONSGML v1.0//EN
CALSCALE:GREGORIAN
METHOD:PUBLISH
X-WR-CALNAME:MJC La maisoun
X-ORIGINAL-URL:https://mjclamaisoun.fr
X-WR-CALDESC:évènements pour MJC La maisoun
BEGIN:VTIMEZONE
TZID:Europe/Paris
BEGIN:DAYLIGHT
TZOFFSETFROM:+0100
TZOFFSETTO:+0200
TZNAME:CEST
DTSTART:20260329T010000
END:DAYLIGHT
BEGIN:STANDARD
TZOFFSETFROM:+0200
TZOFFSETTO:+0100
TZNAME:CET
DTSTART:20261025T010000
END:STANDARD
END:VTIMEZONE
BEGIN:VEVENT
DTSTART;TZID=Europe/Paris:20260331T190000
DTEND;TZID=Europe/Paris:20260331T210000
DTSTAMP:20260424T182744
CREATED:20250625T100312Z
LAST-MODIFIED:20260330T100543Z
UID:50924-1774983600-1774990800@mjclamaisoun.fr
SUMMARY:Parcours vocal #4 - annulé
DESCRIPTION:Les mardis 31 mars\, 7\, 14\, 21 avril\, 5 mai – 19h à 21h \nGuillaume Lopez propose son 4ème parcours vocal à la MJC. Cette année le répertoire sera chanté en occitan en monodie ou polyphonie. Les stagiaires seront accompagnés par Etienne Manchon\, pianiste multifacette entre groove\, classique et jazz. \nPour chanteuses et chanteurs amateur.trices non débutant.es\, il n’est pas nécessaire de savoir lire la musique. \nLes stagiaires assureront une restitution de ces ateliers en 1ère partie du concert “Perqué Pas” le samedi 9 mai. \n95€ + 14€ d’adhésion \n\n\nInscription en ligne ou au 05 62 07 21 06 ou contact@mjclamaisoun.fr
URL:https://mjclamaisoun.fr/event/parcours-vocal-4/
LOCATION:MJC
CATEGORIES:Conférence,Stage
ATTACH;FMTTYPE=image/jpeg:https://mjclamaisoun.fr/wp-content/uploads/2025/06/parcours-vocal.jpg
END:VEVENT
BEGIN:VEVENT
DTSTART;VALUE=DATE:20260411
DTEND;VALUE=DATE:20260412
DTSTAMP:20260424T182744
CREATED:20250625T094537Z
LAST-MODIFIED:20250806T141401Z
UID:50920-1775865600-1775951999@mjclamaisoun.fr
SUMMARY:Jam break dance
DESCRIPTION:Samedi 11 avril – à partir de 16h \nEntrée libre \nAvec l’association « Each one Teach one » qui développe et valorise tous les aspects de la culture Hip-Hop à Toulouse \nA l’image des block party du bronx où les habitants du quartier se retrouvaient autour d’un moment convivial autour des pratiques artistiques et culturelles\, la MJC proposera un espace d’expression libre\, de partage et d’improvisation\, rythmé par les sons d’un DJ et d’un live band qui permettront aux danseurs de se rencontrer\, de partager leur passion\, et au public de découvrir cette énergie débordante !
URL:https://mjclamaisoun.fr/event/jam-break-dance/
LOCATION:MJC
CATEGORIES:autre,Danse
ATTACH;FMTTYPE=image/jpeg:https://mjclamaisoun.fr/wp-content/uploads/2025/06/breakdance-scaled.jpg
END:VEVENT
BEGIN:VEVENT
DTSTART;TZID=Europe/Paris:20260415T200000
DTEND;TZID=Europe/Paris:20260415T220000
DTSTAMP:20260424T182744
CREATED:20260108T130521Z
LAST-MODIFIED:20260216T095135Z
UID:51351-1776283200-1776290400@mjclamaisoun.fr
SUMMARY:Conférence histoire de l'art : L'impressionnisme à l'américaine\, la touche Outre-Atlantique
DESCRIPTION:! Attention\, la date de cette conférence était prévue initialement au 8 avril. Elle aura finalement lieu le 15 avril !\nL’identité nationale des Etats-unis s’inscrit dans le paysage. Les peintres américains du milieu du XIXe siècle immortalisent les vastes étendues de leur pays. \nLa Hudson River School se distingue par ses vues presque photographiques des bords du fleuve Hudson. \nLa découverte de l’impressionnisme conduit de jeunes artistes à franchir l’Atlantique. A partir de 1887\, ils s’installent à Giverny et rencontrent le maître des effets changeants : Claude Monet. \nThéodore Robinson\, John Leslie Beck\, Childe Hassam\, Mary Cassatt\, John Singer Sargent et bien d’autres ont posé leur chevalet sur les bords de Seine. \n\nConférence assurée par Myriam Pastor\, conférencière\, diplômée d’un master en histoire de l’art et d’un master en arts plastiques. Elle partage sa passion de l’art et vous permet de voir\, comprendre\, prendre le temps de vous immerger dans une œuvre pour vous l’approprier. Un voyage dans le temps et les arts. Dès 15 ans – 10 € – gratuit moins de 18 ans \n\n\nBilletterie en ligne
URL:https://mjclamaisoun.fr/event/conference-histoire-de-lart-limpressionnisme-a-lamericaine-la-touche-outre-atlantique/
LOCATION:MJC
CATEGORIES:arts,Conférence,histoire
ATTACH;FMTTYPE=image/jpeg:https://mjclamaisoun.fr/wp-content/uploads/2026/01/cda19_article_actu-impressionnisme-americaine-.jpg
END:VEVENT
BEGIN:VEVENT
DTSTART;TZID=Europe/Paris:20260428T100000
DTEND;TZID=Europe/Paris:20260430T170000
DTSTAMP:20260424T182744
CREATED:20250806T145814Z
LAST-MODIFIED:20250806T150014Z
UID:51101-1777370400-1777568400@mjclamaisoun.fr
SUMMARY:Stage de cirque
DESCRIPTION:Du mardi 28 au jeudi 30 avril\nC’est maintenant un rendez-vous attendu pour les jeunes qui désirent découvrir ou approfondir les arts du cirque : pendant les vacances d’avril\, la MJC La Maisoun propose 3 demi-journées de stage de cirque dans la salle de spectacle de la MJC\, 8 place de Compostelle à L’Isle-Jourdain. Deux groupes sont prévus en fonction de l’âge : \n\nDe 3 à 5 ans : le matin de 10h à 12h\n6 ans et plus : l’après-midi de 14h à 17h\n\nRires et joies seront au rendez-vous pendant ce stage ludique et physique qui sera animé par Jalal. Au programme de ce stage : \n\ntravail des équilibres sur le fil tendu\, la boule\, le monocycle\, la chaise d’équilibre\, les échasses\, les rouleaux américains… ;\nmanipulation d’objets et jonglerie avec les balles\, anneaux\, assiettes chinoises\, rubans\, foulards\, diabolos\, bâtons du diable\, massues ;\nacrobaties : au sol\, porté\, sur mini-trampoline.\n\nLes tarifs sont fonction du quotient familial et du groupe : \n\nPour les 3 à 5 ans : de 33 à 73 €\nPour les 6 ans et plus : de 53 à 93 €\n+ 14 € d’adhésion (pour les enfants non adhérents).\n\nPlaces limitées : inscription auprès de Nancy à l’accueil 05 62 07 21 06 ou contact@mjclamaisoun.fr
URL:https://mjclamaisoun.fr/event/stage-cirque-avril26/
CATEGORIES:cirque,Stage
ATTACH;FMTTYPE=image/jpeg:https://mjclamaisoun.fr/wp-content/uploads/2024/05/cirque16-scaled.jpg
END:VEVENT
BEGIN:VEVENT
DTSTART;TZID=Europe/Paris:20260428T100000
DTEND;TZID=Europe/Paris:20260430T120000
DTSTAMP:20260424T182744
CREATED:20250806T152911Z
LAST-MODIFIED:20260219T150021Z
UID:51115-1777370400-1777550400@mjclamaisoun.fr
SUMMARY:Stage radio pour briller aux oraux du brevet et du bac !
DESCRIPTION:> à L’Isle-Jourdain : Du mardi 28 au jeudi 30 avril de 10h-12h\n> à Fleurance : mardi 28 de 10h à 12h et mercredi 29 de 10h à 12h et de 13h à 15h \nPrendre la parole avec assurance\, capter l’attention\, convaincre… Ça s’apprend ! \nPendant ce stage unique\, prépare tes oraux du Brevet ou du Bac grâce à la pédagogie radiophonique\, ludique et efficace. \n🎙 Au programme : \n\nLecture de textes à haute voix\, travail du rythme et de l’intonation\nJeux d’articulation et d’élocution\nTravail de la respiration et de la posture\nExercices d’éloquence\n\nViens découvrir le micro comme outil pour t’exprimer clairement\, affirmer ta voix et oser parler en public. Un vrai tremplin pour tes examens… et bien au-delà ! \n15€ + adhésion à la MJC (14€) \nInscriptions : 05 62 07 21 06 ou contact@mjclamaisoun.fr
URL:https://mjclamaisoun.fr/event/radio-prepa-oraux/
CATEGORIES:Radio,Stage
ATTACH;FMTTYPE=image/jpeg:https://mjclamaisoun.fr/wp-content/uploads/2025/08/stage-eloquence-radio2.jpg
END:VEVENT
END:VCALENDAR