BEGIN:VCALENDAR
VERSION:2.0
PRODID:-//MJC La maisoun - ECPv5.14.1//NONSGML v1.0//EN
CALSCALE:GREGORIAN
METHOD:PUBLISH
X-WR-CALNAME:MJC La maisoun
X-ORIGINAL-URL:https://mjclamaisoun.fr
X-WR-CALDESC:évènements pour MJC La maisoun
BEGIN:VTIMEZONE
TZID:Europe/Paris
BEGIN:DAYLIGHT
TZOFFSETFROM:+0100
TZOFFSETTO:+0200
TZNAME:CEST
DTSTART:20250330T010000
END:DAYLIGHT
BEGIN:STANDARD
TZOFFSETFROM:+0200
TZOFFSETTO:+0100
TZNAME:CET
DTSTART:20251026T010000
END:STANDARD
END:VTIMEZONE
BEGIN:VEVENT
DTSTART;TZID=Europe/Paris:20250614T153000
DTEND;TZID=Europe/Paris:20250614T153000
DTSTAMP:20260422T203452
CREATED:20250114T110121Z
LAST-MODIFIED:20250114T110827Z
UID:50733-1749915000-1749915000@mjclamaisoun.fr
SUMMARY:Cirque en scène - spectacle de fin d'année
DESCRIPTION:Spectacle des élèves des ateliers cirque. \nSamedi 14 juin à 15h30. \nInscription nécessaire auprès de l’accueil (nombre de place limité). \n05 62 07 21 06 – 07 71 56 48 95 – contact@mjclamaisoun.fr
URL:https://mjclamaisoun.fr/event/cirque-en-scene-spectacle-de-fin-dannee/
CATEGORIES:cirque
ATTACH;FMTTYPE=image/jpeg:https://mjclamaisoun.fr/wp-content/uploads/2024/06/salut-public-scaled-e1718114164384.jpg
END:VEVENT
END:VCALENDAR