BEGIN:VCALENDAR
VERSION:2.0
PRODID:-//MJC La maisoun - ECPv5.14.1//NONSGML v1.0//EN
CALSCALE:GREGORIAN
METHOD:PUBLISH
X-WR-CALNAME:MJC La maisoun
X-ORIGINAL-URL:https://mjclamaisoun.fr
X-WR-CALDESC:évènements pour MJC La maisoun
BEGIN:VTIMEZONE
TZID:Europe/Paris
BEGIN:DAYLIGHT
TZOFFSETFROM:+0100
TZOFFSETTO:+0200
TZNAME:CEST
DTSTART:20240331T010000
END:DAYLIGHT
BEGIN:STANDARD
TZOFFSETFROM:+0200
TZOFFSETTO:+0100
TZNAME:CET
DTSTART:20241027T010000
END:STANDARD
END:VTIMEZONE
BEGIN:VEVENT
DTSTART;TZID=Europe/Paris:20240427T203000
DTEND;TZID=Europe/Paris:20240427T223000
DTSTAMP:20260425T025243
CREATED:20221215T151913Z
LAST-MODIFIED:20230801T082158Z
UID:49154-1714249800-1714257000@mjclamaisoun.fr
SUMMARY:Trio Zafrani - Concert
DESCRIPTION:Samedi 27 avril – 20h30 \nLe trio toulousain traverse joyeusement les frontières sonores et géographiques pour vous emmener dans un voyage intemporel\, subtil et épicé. Inspiré de Bach pour ancrer son écriture musicale\, Zafrani propose des compositions originales où mélopées\, berceuses du Moyen-Orient\, musiques traditionnelles ou baroques côtoient le jazz\, des musiques électroniques et des chants tribaux. \n12 €/ 10 € / 6€ \ninscriptions : 07 71 56 48 95 – 05 62 07 21 06 ou contact@mjclamaisoun.fr \n\nCréé en 2020 pour le festival Passe ton Bach à Toulouse\, Zafrani est le fruit de la rencontre musicale entre Caroline Champy-Tursun\, Isabelle Cirla et Jodël Grasset-Saruwatari. \nLes trois musiciens\, issus respectivement de la musique baroque\, du jazz\, des musiques traditionnelles et médiévales\, nous offrent un voyage intemporel où mélopées\, berceuse du Moyen-Orient côtoient musiques électroniques et chants tribaux. \nAvec finesse et subtilité\, les mots et les mélodies s’entremêlent\, les souffles s’incarnent\, les rythmes se posent. \nLes compositions nous plongent dans une écriture exigeante\, naviguent autour de subtiles sonorités\, laissant place au libre envol de l’improvisation. \nLes énergies sortent de terre… et Zafrani nous rappelle que la musique est avant tout connexion à nous-mêmes\, aux autres et au monde. \nUn délice épicé ! \nFusionnant entre musiques du Moyen Orient et compositions originales\, Zafrani s’inspire de Bach pour ancrer son écriture musicale. Tantôt jazz\, musiques traditionnelles ou baroque\, le trio toulousain traverse joyeusement les frontières sonores et géographiques pour nous emmener dans un voyage intemporel\, subtil et épicé. \nFusionnant entre musique du Moyen Orient et compositions originales\, le Trio Zafrani s’inspire de Bach pour ancrer son écriture.\nTantôt jazz\, musique traditionnelle ou baroque\, le trio toulousain\, formé à l’origine pour le festival « Passe ton Bach »\, traverse joyeusement les frontières sonores et géographiques pour nous emmener\, enfin\, en voyage.\nEntre une poésie de Victor Hugo\, une berceuse grecque\, des poèmes d’amour de Frida Khalo\, des musiques du Moyen Orient et compositions des membres du trio… la voix lyrique\, parfois rocailleuse\, s’associe aux sonorités délicates des instruments et des sons électroniques dans une alchimie savoureuse.\nCaroline Champy Tursun : chant\, clavier\, loop\nIsabelle Cirla : clarinette basse\nJodël Grasset-Saruwatari : ûd\, percussions\, programmation.\nLaurent Lopez : son \n\n\n	\n			\n		\n	\n	\n	\n	\n		Je te Ciel_defSeptembre l'écorce
URL:https://mjclamaisoun.fr/event/trio-zafrani-concert/
LOCATION:MJC
CATEGORIES:Concert
ATTACH;FMTTYPE=image/jpeg:https://mjclamaisoun.fr/wp-content/uploads/2022/12/ZAFRANI-12-1.jpg
ORGANIZER;CN="MJC%20La%20maisoun":MAILTO:contact@mjclamaisoun.fr
END:VEVENT
END:VCALENDAR