BEGIN:VCALENDAR
VERSION:2.0
PRODID:-//MJC La maisoun - ECPv5.14.1//NONSGML v1.0//EN
CALSCALE:GREGORIAN
METHOD:PUBLISH
X-WR-CALNAME:MJC La maisoun
X-ORIGINAL-URL:https://mjclamaisoun.fr
X-WR-CALDESC:évènements pour MJC La maisoun
BEGIN:VTIMEZONE
TZID:Europe/Paris
BEGIN:DAYLIGHT
TZOFFSETFROM:+0100
TZOFFSETTO:+0200
TZNAME:CEST
DTSTART:20240331T010000
END:DAYLIGHT
BEGIN:STANDARD
TZOFFSETFROM:+0200
TZOFFSETTO:+0100
TZNAME:CET
DTSTART:20241027T010000
END:STANDARD
END:VTIMEZONE
BEGIN:VEVENT
DTSTART;TZID=Europe/Paris:20240413T093000
DTEND;TZID=Europe/Paris:20240413T173000
DTSTAMP:20260424T212119
CREATED:20240318T112754Z
LAST-MODIFIED:20240409T080623Z
UID:50122-1713000600-1713029400@mjclamaisoun.fr
SUMMARY:Théâtre-Forum : jouer pour apprendre à réagir dans une situation de harcèlement - ANNULÉ
DESCRIPTION:— Annulé —- \nsamedi 13 avril – 9h30 à 17h30. \nLa MJC La Maisoun propose un atelier d’une journée qui s’appuie sur la technique du théâtre-forum. Par la pratique de jeux et la mise en situation par le théâtre\, vous serez amené à réfléchir ensemble à la problématique qu’est le harcèlement. \nDans une ambiance conviviale et bienveillante\, vous échangerez et expérimenterez des solutions afin de trouver davantage de liberté et d’efficacité si vous êtes confronté à une situation de harcèlement dans la « vie réelle ». \nVous participerez à des jeux préparatoires : jouer avec votre corps pour en prendre conscience\, le rendre expressif ; jouer avec la langue orale (les mots\, les sons\, articulation\, intonations…) afin de favoriser la confiance en soi\, l’écoute\, la réactivité… \nVous serez ensuite invité à jouer et rejouer avec spontanéité et inventivité une scène (situation de harcèlement). \nLa richesse des différentes interventions des participants permet de questionner\, prendre conscience\, confronter les points de vue\, mieux comprendre les enjeux d’une situation conflictuelle\, faire émerger différentes alternatives\, trouver des outils…. \nLa journée est animée par Cécile Souchois-Bazin\, professionnelle du spectacle\,  professeur de théâtre à la MJC et sociologue. \n➢ Étape préparatoire : Le jeu ! (le matin)\nNous proposerons de préparer le corps à explorer\, à expérimenter les choses pour pouvoir les dire. Cela permettra de bien écouter ce qu’il y a derrière les mots\, d’aller chercher la partition émotionnelle… \nDans cette perspective\, nous jouerons avec notre corps pour en prendre conscience (appréhender ses limites et ses possibilités)\, et le rendre expressif. Le langage du corps vient enrichir le langage vocal… et inversement… \nNous proposerons également des jeux pour explorer la langue orale afin de favoriser la confiance en soi\, l’écoute\, la réactivité… Nous jouerons avec les mots\, leur son\, leur musique ainsi qu’avec la voix (modulation\, émotion\, expression\, accent\, articulation\, élocution\, tons\, intonations…). \nCes jeux vont provoquer rire et détente et vont favoriser le contact\, la solidarité et la cohésion de groupe. \n  \n➢ Le Théâtre Forum comme levier d’action (L’après-midi)\nIl s’agit d’une technique participative où les participants improvisent. Les « participants \nComédiens » vont interpréter plusieurs saynètes illustrant des situations conflictuelles ou des sujets problématiques qui se rapprochent des situations possibles de harcèlement. \nLes « participants spectateurs » vont pouvoir intervenir spontanément dans le jeu théâtral dans le but d’améliorer la situation ou d’essayer d’infléchir le cours des événements. \nLa diversité des autres comportements possibles va leur permettre de questionner\, de prendre conscience\, d’explorer plusieurs solutions\, de les confronter et de découvrir qu’il n’y a pas qu’une attitude face à un problème. \n  \nObjectifs\nLe théâtre-forum est une manière de réfléchir ensemble à une problématique commune\, de donner un support concret de réflexions\, d’échanges et d’expérimentation afin que dans la « vie réelle » les participants puissent trouver davantage de liberté et d’efficacité dans cette situation. \n » Il n’est pas question de chercher la bonne solution\, la recette miracle qui conviendrait à tous\, mais bien de se découvrir des ressources\, de développer sa capacité d’évaluation et d’adaptation dans une situation problématique. Le but est de susciter des réactions et de confronter les points de vue\, mieux comprendre les enjeux d’une situation conflictuelle\, faire émerger différentes alternatives\, trouver des outils…. «  \n  \nInscriptions\nInscriptions obligatoires au 05 62 07 21 06 – 07 71 56 48 95 – contact@mjclamaisoun.fr \nGratuit \nPrévoir un pique-nique ou un repas à partager pour le midi. \n 
URL:https://mjclamaisoun.fr/event/theatre-forum-harcelement/
LOCATION:MJC
CATEGORIES:autre,Stage,Théatre
ATTACH;FMTTYPE=image/png:https://mjclamaisoun.fr/wp-content/uploads/2024/03/Theatre-Forum-Harcelement-FB.png
ORGANIZER;CN="MJC%20La%20maisoun":MAILTO:contact@mjclamaisoun.fr
END:VEVENT
END:VCALENDAR