BEGIN:VCALENDAR
VERSION:2.0
PRODID:-//MJC La maisoun - ECPv5.14.1//NONSGML v1.0//EN
CALSCALE:GREGORIAN
METHOD:PUBLISH
X-WR-CALNAME:MJC La maisoun
X-ORIGINAL-URL:https://mjclamaisoun.fr
X-WR-CALDESC:évènements pour MJC La maisoun
BEGIN:VTIMEZONE
TZID:Europe/Paris
BEGIN:DAYLIGHT
TZOFFSETFROM:+0100
TZOFFSETTO:+0200
TZNAME:CEST
DTSTART:20260329T010000
END:DAYLIGHT
BEGIN:STANDARD
TZOFFSETFROM:+0200
TZOFFSETTO:+0100
TZNAME:CET
DTSTART:20261025T010000
END:STANDARD
END:VTIMEZONE
BEGIN:VEVENT
DTSTART;TZID=Europe/Paris:20260620T153000
DTEND;TZID=Europe/Paris:20260621T230000
DTSTAMP:20260423T154611
CREATED:20250807T090501Z
LAST-MODIFIED:20260421T064828Z
UID:51157-1781969400-1782082800@mjclamaisoun.fr
SUMMARY:En scène ! - Spectacle de danse jazz et street-jazz à Tempo
DESCRIPTION:Les adhérents des activités danse jazz et street-jazz ont travaillé durant toute l’année un spectacle haut en couleurs pour le plaisir de tous. \nEt pour ne rien gâcher pour cette occasion la MJC se déplace à la très belle salle de spectacle Tempo de Léguevin. \nSamedi 20 juin\, dès 20h30 – répétition dès 8h30 \nDimanche 21 juin\, dès 15h30 – arrivée des danseuses 14h30 \n  \nProgramme\nProgramme et thème à venir\, un peu de patience ! \nBilletterie\n7 € enfant / 14 € adulte \nLes billets seront principalement à prendre en ligne\, mais vous pouvez également passer à l’accueil  ! La billetterie ouvrira prochainement.
URL:https://mjclamaisoun.fr/event/tempo26/
CATEGORIES:Danse
ATTACH;FMTTYPE=image/jpeg:https://mjclamaisoun.fr/wp-content/uploads/2025/08/danse.jpg
END:VEVENT
END:VCALENDAR