BEGIN:VCALENDAR
VERSION:2.0
PRODID:-//MJC La maisoun - ECPv5.14.1//NONSGML v1.0//EN
CALSCALE:GREGORIAN
METHOD:PUBLISH
X-WR-CALNAME:MJC La maisoun
X-ORIGINAL-URL:https://mjclamaisoun.fr
X-WR-CALDESC:évènements pour MJC La maisoun
BEGIN:VTIMEZONE
TZID:Europe/Paris
BEGIN:DAYLIGHT
TZOFFSETFROM:+0100
TZOFFSETTO:+0200
TZNAME:CEST
DTSTART:20230326T010000
END:DAYLIGHT
BEGIN:STANDARD
TZOFFSETFROM:+0200
TZOFFSETTO:+0100
TZNAME:CET
DTSTART:20231029T010000
END:STANDARD
END:VTIMEZONE
BEGIN:VEVENT
DTSTART;TZID=Europe/Paris:20230617T150000
DTEND;TZID=Europe/Paris:20230617T220000
DTSTAMP:20260425T055158
CREATED:20230515T152232Z
LAST-MODIFIED:20230516T151750Z
UID:49417-1687014000-1687039200@mjclamaisoun.fr
SUMMARY:Sur les planches
DESCRIPTION:La MJC La Maisoun propose\, comme spectacle de fin d’année des clubs d’activité théâtre\, un mini festival de théâtre enfant\, ados et adulte sur la journée du samedi 17 juin. \nProgramme des festivités  :\n\n« Le sens de la vie » 15h – Spectacle des enfants – groupe 1 du lundi \n« Les ouf font leur théâtre » – Spectacle des enfants – groupe 2 du lundi \nUne série de sketchs choisis par les enfants. Des moments de vie drôles\, un peu bizarroïdes\, souvent fantaisistes. De l’aventure\, des histoires\, des bêtises\, des émotions. Et tout ça\, ça s’enchaîne et ça déchaîne! \n  \n« J’ai rien compris! » – 16h30 – Spectacle préados\n \nLa fine équipe des jeunes ados vous propose des saynètes extravagantes\, rocambolesques\, invraisemblables\, incompréhensibles ! Avec leur jeu et aussi un peu d’improvisation\, ils vont vous débrancher (peut-être)\, vous déprimer (un peu)\, vous désopiler (sans doute)\, vous réenchanter (vraiment). \n« Le tribunal des femmes » – 18h – Spectacle Ados\n \nLes ados vous emmène au paradis ! A moins que cela ne soit en enfer ? Une comédie dans laquelle Dieu est une femme… \n« Des femmes un brin décalées? » – 20h – Spectacle Adultes \nDes sketchs et des impros un peu déjantés et complètement loufoques dans lesquels des femmes vont révéler leur sensibilité et leur fantaisie. C’est extravagant et franchement déraisonnable!!!
URL:https://mjclamaisoun.fr/event/sur-les-planches/
LOCATION:MJC
CATEGORIES:Théatre
ATTACH;FMTTYPE=image/jpeg:https://mjclamaisoun.fr/wp-content/uploads/2023/05/theatre-scaled.jpg
END:VEVENT
END:VCALENDAR