BEGIN:VCALENDAR
VERSION:2.0
PRODID:-//MJC La maisoun - ECPv5.14.1//NONSGML v1.0//EN
CALSCALE:GREGORIAN
METHOD:PUBLISH
X-WR-CALNAME:MJC La maisoun
X-ORIGINAL-URL:https://mjclamaisoun.fr
X-WR-CALDESC:évènements pour MJC La maisoun
BEGIN:VTIMEZONE
TZID:Europe/Paris
BEGIN:DAYLIGHT
TZOFFSETFROM:+0100
TZOFFSETTO:+0200
TZNAME:CEST
DTSTART:20260329T010000
END:DAYLIGHT
BEGIN:STANDARD
TZOFFSETFROM:+0200
TZOFFSETTO:+0100
TZNAME:CET
DTSTART:20261025T010000
END:STANDARD
END:VTIMEZONE
BEGIN:VEVENT
DTSTART;TZID=Europe/Paris:20260614T150000
DTEND;TZID=Europe/Paris:20260614T170000
DTSTAMP:20260423T150258
CREATED:20250807T085817Z
LAST-MODIFIED:20250807T085817Z
UID:51155-1781449200-1781456400@mjclamaisoun.fr
SUMMARY:Sur les planches – spectacle de fin d’année de la section théâtre
DESCRIPTION:La MJC La Maisoun propose\, comme spectacle de fin d’année des clubs d’activité théâtre\, un mini festival de théâtre enfants et ados dimanche 14 juin dans l’après-midi. \nNombre de places limité\, pensez à réserver au 05 62 07 21 06 ou contact@mjclamaisoun.fr
URL:https://mjclamaisoun.fr/event/sur-les-planches-spectacle-de-fin-dannee-de-la-section-theatre-2/
CATEGORIES:Théatre
ATTACH;FMTTYPE=image/jpeg:https://mjclamaisoun.fr/wp-content/uploads/2025/01/preados.jpeg
END:VEVENT
END:VCALENDAR