BEGIN:VCALENDAR
VERSION:2.0
PRODID:-//MJC La maisoun - ECPv5.14.1//NONSGML v1.0//EN
CALSCALE:GREGORIAN
METHOD:PUBLISH
X-WR-CALNAME:MJC La maisoun
X-ORIGINAL-URL:https://mjclamaisoun.fr
X-WR-CALDESC:évènements pour MJC La maisoun
BEGIN:VTIMEZONE
TZID:Europe/Paris
BEGIN:DAYLIGHT
TZOFFSETFROM:+0100
TZOFFSETTO:+0200
TZNAME:CEST
DTSTART:20230326T010000
END:DAYLIGHT
BEGIN:STANDARD
TZOFFSETFROM:+0200
TZOFFSETTO:+0100
TZNAME:CET
DTSTART:20231029T010000
END:STANDARD
END:VTIMEZONE
BEGIN:VEVENT
DTSTART;TZID=Europe/Paris:20231104T103000
DTEND;TZID=Europe/Paris:20231104T120000
DTSTAMP:20260424T212300
CREATED:20231009T140520Z
LAST-MODIFIED:20231009T140520Z
UID:49795-1699093800-1699099200@mjclamaisoun.fr
SUMMARY:Stage Street-Jazz ado/adulte
DESCRIPTION:Samedi 4 novembre de 10h30 à 12h\n\n\n\n\nLa danse street jazz est conçue à partir d’un mélange de danse Jazz et de Hip-hop.\n\n\n\n\n\nOuvert à toutes et tous dès 15 ans.\n\n\n\n\n\nTarifs : 15€ pour les mineurs\, 20€ les adultes
URL:https://mjclamaisoun.fr/event/stage-street-jazz-ado-adulte/
LOCATION:MJC
CATEGORIES:Danse,Stage
ATTACH;FMTTYPE=image/jpeg:https://mjclamaisoun.fr/wp-content/uploads/2023/10/street-scaled.jpg
END:VEVENT
END:VCALENDAR