BEGIN:VCALENDAR
VERSION:2.0
PRODID:-//MJC La maisoun - ECPv5.14.1//NONSGML v1.0//EN
CALSCALE:GREGORIAN
METHOD:PUBLISH
X-WR-CALNAME:MJC La maisoun
X-ORIGINAL-URL:https://mjclamaisoun.fr
X-WR-CALDESC:évènements pour MJC La maisoun
BEGIN:VTIMEZONE
TZID:Europe/Paris
BEGIN:DAYLIGHT
TZOFFSETFROM:+0100
TZOFFSETTO:+0200
TZNAME:CEST
DTSTART:20240331T010000
END:DAYLIGHT
BEGIN:STANDARD
TZOFFSETFROM:+0200
TZOFFSETTO:+0100
TZNAME:CET
DTSTART:20241027T010000
END:STANDARD
END:VTIMEZONE
BEGIN:VEVENT
DTSTART;TZID=Europe/Paris:20240217T103000
DTEND;TZID=Europe/Paris:20240217T120000
DTSTAMP:20260424T212327
CREATED:20240115T132414Z
LAST-MODIFIED:20240115T132414Z
UID:49992-1708165800-1708171200@mjclamaisoun.fr
SUMMARY:Stage Street-Jazz ado/adulte
DESCRIPTION:Samedi 17 février de 10h30 à 12h\n\n\n\nLa danse street jazz est conçue à partir d’un mélange de danse Jazz et de Hip-hop. \n\n\n\nOuvert à toutes et tous dès 12 ans. \n\n\n\nTarifs : 15€ pour les mineurs\, 20€ les adultes
URL:https://mjclamaisoun.fr/event/stage-street-jazz-ado-adulte-2/
LOCATION:MJC
CATEGORIES:Danse,Stage
ATTACH;FMTTYPE=image/jpeg:https://mjclamaisoun.fr/wp-content/uploads/2023/10/street-scaled.jpg
END:VEVENT
END:VCALENDAR