BEGIN:VCALENDAR
VERSION:2.0
PRODID:-//MJC La maisoun - ECPv5.14.1//NONSGML v1.0//EN
CALSCALE:GREGORIAN
METHOD:PUBLISH
X-WR-CALNAME:MJC La maisoun
X-ORIGINAL-URL:https://mjclamaisoun.fr
X-WR-CALDESC:évènements pour MJC La maisoun
BEGIN:VTIMEZONE
TZID:Europe/Paris
BEGIN:DAYLIGHT
TZOFFSETFROM:+0100
TZOFFSETTO:+0200
TZNAME:CEST
DTSTART:20260329T010000
END:DAYLIGHT
BEGIN:STANDARD
TZOFFSETFROM:+0200
TZOFFSETTO:+0100
TZNAME:CET
DTSTART:20261025T010000
END:STANDARD
END:VTIMEZONE
BEGIN:VEVENT
DTSTART;TZID=Europe/Paris:20260321T080000
DTEND;TZID=Europe/Paris:20260321T170000
DTSTAMP:20260424T030622
CREATED:20250807T073012Z
LAST-MODIFIED:20260324T101242Z
UID:51119-1774080000-1774112400@mjclamaisoun.fr
SUMMARY:Stage Préparation aux examens grâce à la sophrologie - Annulé
DESCRIPTION:Les samedis 21 mars\, 4\, 11 et 18 avril et 30 mai. (Attention\, la séance prévue initialement le 28 mars est reportée au 4 avril) – De 10h30 à 12h \nBooste ta réussite BREVET OU BAC ! \nStage de 5 séances de préparation aux examens. Avec la sophrologie\, dompte le stress\, libérè ton mental\, dors mieux… Transforme tes examens en victoire grâce à une attitude positive et des projections de succès ! \nTarifs : 50 € les 5 séances + 14€ adhésion à la MJC \nInscription et renseignements au 05 62 07 21 06 – 07 71 56 48 95 – contact@mjclamaisoun.fr
URL:https://mjclamaisoun.fr/event/stage-prepa-exam-sophro/
CATEGORIES:autre,Stage
ATTACH;FMTTYPE=image/jpeg:https://mjclamaisoun.fr/wp-content/uploads/2025/08/2.jpg
END:VEVENT
END:VCALENDAR