BEGIN:VCALENDAR
VERSION:2.0
PRODID:-//MJC La maisoun - ECPv5.14.1//NONSGML v1.0//EN
CALSCALE:GREGORIAN
METHOD:PUBLISH
X-WR-CALNAME:MJC La maisoun
X-ORIGINAL-URL:https://mjclamaisoun.fr
X-WR-CALDESC:évènements pour MJC La maisoun
BEGIN:VTIMEZONE
TZID:Europe/Paris
BEGIN:DAYLIGHT
TZOFFSETFROM:+0100
TZOFFSETTO:+0200
TZNAME:CEST
DTSTART:20230326T010000
END:DAYLIGHT
BEGIN:STANDARD
TZOFFSETFROM:+0200
TZOFFSETTO:+0100
TZNAME:CET
DTSTART:20231029T010000
END:STANDARD
END:VTIMEZONE
BEGIN:VEVENT
DTSTART;TZID=Europe/Paris:20231104T090000
DTEND;TZID=Europe/Paris:20231104T103000
DTSTAMP:20260424T211843
CREATED:20231009T140345Z
LAST-MODIFIED:20231009T140345Z
UID:49793-1699088400-1699093800@mjclamaisoun.fr
SUMMARY:Stage Danse indienne
DESCRIPTION:Samedi 4 novembre de 9h à 10h30\n\n\n\n\nInitiez-vous à la danse indienne ! Ouvert à toutes et tous dès 12 ans\, ces cours mêlent des techniques de danse traditionnelle (Barathanatyam) et Bollywood.\n\n\n\n\n\nTarifs : 15€ pour les mineurs\, 20€ les adultes
URL:https://mjclamaisoun.fr/event/stage-danse-indienne/
LOCATION:MJC
CATEGORIES:Danse,Stage
ATTACH;FMTTYPE=image/jpeg:https://mjclamaisoun.fr/wp-content/uploads/2023/10/indienne.jpg
END:VEVENT
END:VCALENDAR