BEGIN:VCALENDAR
VERSION:2.0
PRODID:-//MJC La maisoun - ECPv5.14.1//NONSGML v1.0//EN
CALSCALE:GREGORIAN
METHOD:PUBLISH
X-WR-CALNAME:MJC La maisoun
X-ORIGINAL-URL:https://mjclamaisoun.fr
X-WR-CALDESC:évènements pour MJC La maisoun
BEGIN:VTIMEZONE
TZID:Europe/Paris
BEGIN:DAYLIGHT
TZOFFSETFROM:+0100
TZOFFSETTO:+0200
TZNAME:CEST
DTSTART:20240331T010000
END:DAYLIGHT
BEGIN:STANDARD
TZOFFSETFROM:+0200
TZOFFSETTO:+0100
TZNAME:CET
DTSTART:20241027T010000
END:STANDARD
END:VTIMEZONE
BEGIN:VEVENT
DTSTART;TZID=Europe/Paris:20241026T093000
DTEND;TZID=Europe/Paris:20241026T110000
DTSTAMP:20260424T054353
CREATED:20240717T112331Z
LAST-MODIFIED:20241021T123214Z
UID:50540-1729935000-1729940400@mjclamaisoun.fr
SUMMARY:Stage Danse indienne  - annulé
DESCRIPTION:Stage annulé\nSamedi 26 octobre de 9h30 à 11h\n\n\n\nInitiez-vous à la danse indienne ! Ouvert à toutes et tous dès 12 ans\, ces cours mêlent des techniques de danse traditionnelle (Barathanatyam) et Bollywood. \n\n\n\nTarifs : 15€ pour les mineurs\, 20€ les adultes\, +1€ pour les non adhérents \nInscriptions au 05 62 07 21 06 ou 07 71 56 48 95 ou contact@mjclamaisoun.fr
URL:https://mjclamaisoun.fr/event/stage-danse-indienne-2/
CATEGORIES:Danse,Stage
ATTACH;FMTTYPE=image/jpeg:https://mjclamaisoun.fr/wp-content/uploads/2024/07/indienne.jpg
END:VEVENT
END:VCALENDAR