BEGIN:VCALENDAR
VERSION:2.0
PRODID:-//MJC La maisoun - ECPv5.14.1//NONSGML v1.0//EN
CALSCALE:GREGORIAN
METHOD:PUBLISH
X-WR-CALNAME:MJC La maisoun
X-ORIGINAL-URL:https://mjclamaisoun.fr
X-WR-CALDESC:évènements pour MJC La maisoun
BEGIN:VTIMEZONE
TZID:Europe/Paris
BEGIN:DAYLIGHT
TZOFFSETFROM:+0100
TZOFFSETTO:+0200
TZNAME:CEST
DTSTART:20240331T010000
END:DAYLIGHT
BEGIN:STANDARD
TZOFFSETFROM:+0200
TZOFFSETTO:+0100
TZNAME:CET
DTSTART:20241027T010000
END:STANDARD
END:VTIMEZONE
BEGIN:VEVENT
DTSTART;TZID=Europe/Paris:20240302T080000
DTEND;TZID=Europe/Paris:20240302T170000
DTSTAMP:20260424T212015
CREATED:20240116T163141Z
LAST-MODIFIED:20240205T084401Z
UID:50016-1709366400-1709398800@mjclamaisoun.fr
SUMMARY:Stage danse africaine - reporté
DESCRIPTION:Attention\, le stage de danse africaine du samedi 2 mars est reporté au samedi 20 avril\nLa danse africaine nous apprend à bouger notre corps en s’imprégnant des rythmiques africaines. \nC’est ce rythme qui nous aide à chasser les inhibitions\, à développer notre créativité et fait ainsi de cette danse un vaste lieu d’expression. \nDanse du Niger. \nLawa animera ce 2ème stage de danse africaine pour les adolescents (dès 16 ans) et les adultes (il n’est pas obligatoire d’avoir participé au premier stage) \nSamedi 2 mars\, de 14h à 16h. \nTarifs de la séance : 16 € (adhérent) / 20 € (non-adhérent) \nInscriptions : 07 71 56 48 95 – 05 62 07 21 06 – contact@mjclamaisoun.fr
URL:https://mjclamaisoun.fr/event/stage-danse-africaine-2/
LOCATION:MJC
CATEGORIES:Danse,Stage
ATTACH;FMTTYPE=image/png:https://mjclamaisoun.fr/wp-content/uploads/2024/01/femme2@2x.png
END:VEVENT
END:VCALENDAR