BEGIN:VCALENDAR
VERSION:2.0
PRODID:-//MJC La maisoun - ECPv5.14.1//NONSGML v1.0//EN
CALSCALE:GREGORIAN
METHOD:PUBLISH
X-WR-CALNAME:MJC La maisoun
X-ORIGINAL-URL:https://mjclamaisoun.fr
X-WR-CALDESC:évènements pour MJC La maisoun
BEGIN:VTIMEZONE
TZID:Europe/Paris
BEGIN:DAYLIGHT
TZOFFSETFROM:+0100
TZOFFSETTO:+0200
TZNAME:CEST
DTSTART:20240331T010000
END:DAYLIGHT
BEGIN:STANDARD
TZOFFSETFROM:+0200
TZOFFSETTO:+0100
TZNAME:CET
DTSTART:20241027T010000
END:STANDARD
END:VTIMEZONE
BEGIN:VEVENT
DTSTART;TZID=Europe/Paris:20240409T140000
DTEND;TZID=Europe/Paris:20240412T170000
DTSTAMP:20260424T211817
CREATED:20240319T152815Z
LAST-MODIFIED:20240319T153712Z
UID:50128-1712671200-1712941200@mjclamaisoun.fr
SUMMARY:Stage création BD
DESCRIPTION:Apprends à créer ta propre BD !\nAvec Anna Cercignano\, illustratrice professionnelle\, tu apprendras à réaliser une mini-BD\, du scénario à l’encrage en passant par la mise en couleurs. Tu découvriras les techniques de storyboard\, les codes de la narration en bande-dessinée (cadrage\, rapport texte/image…)\, tu affineras tes choix graphiques L’objectif est de créer ta mini-BD et de prolonger l’expérience à la maison ! \nInfos pratiques\nStage collectif de 8 personnes maximum. Pour adolescents\, dès 12 ans. Tout le matériel est fourni. Tarif : 40 à 70 € selon le quotient familial + adhésion à la MJC (14€) Inscription obligatoire au 05 62 07 21 06 – 07 71 56 48 95 – contact@mjclamaisoun.fr \nQuelques mots sur Anna Cercignano\nDessinatrice et autrice italienne\, elle se consacre à la bande dessinée et à l’illustration à travers la micro-édition et la collaboration avec les maisons d’édition. Depuis 2020 elle est enseignante à l’École Internationale de Comics de Florence. Parmi ses publications\, elle a travaillé avec : Revue XXI\, TOPO\, La revue dessinée Italia\, Linus\, Robinson de La Repubblica\, Scuola di Fumetto\, Il Castoro\, Beccogiallo éditeur. Elle travaille à la main\, avec une forte prédilection pour les crayons de couleur. Une grande partie de sa production a comme sujet le corps humain et toutes les figures qu’elle dessine sont l’œuvre de l’imagination. Dessiner des bandes dessinées est devenu la manière la plus claire qu’elle connaisse pour parler de ce qu’elle pense. Une sélection d’affiches de ses illustrations est disponible à la galerie Illustrafemmes de Toulouse. Elle vit depuis 2016 à Toulouse. \n\nDécouvres l’univers d’Anna Cercignano
URL:https://mjclamaisoun.fr/event/stage-creation-bd/
LOCATION:MJC
CATEGORIES:arts,Stage
ATTACH;FMTTYPE=image/png:https://mjclamaisoun.fr/wp-content/uploads/2024/03/miniature.png
END:VEVENT
END:VCALENDAR