BEGIN:VCALENDAR
VERSION:2.0
PRODID:-//MJC La maisoun - ECPv5.14.1//NONSGML v1.0//EN
CALSCALE:GREGORIAN
METHOD:PUBLISH
X-WR-CALNAME:MJC La maisoun
X-ORIGINAL-URL:https://mjclamaisoun.fr
X-WR-CALDESC:évènements pour MJC La maisoun
BEGIN:VTIMEZONE
TZID:Europe/Paris
BEGIN:DAYLIGHT
TZOFFSETFROM:+0100
TZOFFSETTO:+0200
TZNAME:CEST
DTSTART:20260329T010000
END:DAYLIGHT
BEGIN:STANDARD
TZOFFSETFROM:+0200
TZOFFSETTO:+0100
TZNAME:CET
DTSTART:20261025T010000
END:STANDARD
END:VTIMEZONE
BEGIN:VEVENT
DTSTART;TZID=Europe/Paris:20260223T093000
DTEND;TZID=Europe/Paris:20260224T173000
DTSTAMP:20260424T080824
CREATED:20250806T150630Z
LAST-MODIFIED:20260209T100030Z
UID:51108-1771839000-1771954200@mjclamaisoun.fr
SUMMARY:Stage de couture
DESCRIPTION:lundi 23 et mardi 24 février\nÉlodie propose aux jeunes de 8 à 17 ans\, adhérents ou non-adhérents\, débutants ou initiés\, de participer à un stage de couture. \nLes couturiers et couturières en herbe pourront repartir avec leur(s) création(s). \nTout le matériel de couture est fourni. \nLe programme\nLes demi-journées sont au choix. \n\nLundi matin : bonnet\, mitaine ou capuche\nLundi après-midi : Banane – COMPLET\nMardi matin : Gilet de berger\nMardi après-midi : trousse pot – COMPLET\n\nLes horaires\n9h30 à 12h30 et 13h30 à 17h30. \nIl est possible de pique-niquer (chaud /froid) à La Maisoun. \nTarifs :\n\nLe matin : 25€\nL’après midi : 30€\nLa journée : 50€\nLes 2 jours : 95€\n\n+ adhésion à la MJC de 14 € \nInscription obligatoire au 05 62 07 21 06 – 07 71 56 48 95 – contact@mjclamaisoun.fr
URL:https://mjclamaisoun.fr/event/stage-couture-26/
CATEGORIES:couture,Stage
ATTACH;FMTTYPE=image/png:https://mjclamaisoun.fr/wp-content/uploads/2024/11/stage-couture.png
END:VEVENT
END:VCALENDAR