BEGIN:VCALENDAR
VERSION:2.0
PRODID:-//MJC La maisoun - ECPv5.14.1//NONSGML v1.0//EN
CALSCALE:GREGORIAN
METHOD:PUBLISH
X-WR-CALNAME:MJC La maisoun
X-ORIGINAL-URL:https://mjclamaisoun.fr
X-WR-CALDESC:évènements pour MJC La maisoun
BEGIN:VTIMEZONE
TZID:Europe/Paris
BEGIN:DAYLIGHT
TZOFFSETFROM:+0100
TZOFFSETTO:+0200
TZNAME:CEST
DTSTART:20230326T010000
END:DAYLIGHT
BEGIN:STANDARD
TZOFFSETFROM:+0200
TZOFFSETTO:+0100
TZNAME:CET
DTSTART:20231029T010000
END:STANDARD
END:VTIMEZONE
BEGIN:VEVENT
DTSTART;VALUE=DATE:20231015
DTEND;VALUE=DATE:20231016
DTSTAMP:20260424T211827
CREATED:20230731T135725Z
LAST-MODIFIED:20230801T074459Z
UID:49653-1697328000-1697414399@mjclamaisoun.fr
SUMMARY:STAGE CLOWN
DESCRIPTION:Dimanche 15 octobre – 10h à 18h \n \nLe Clown est un état d’esprit\, une façon de voir et de vivre la vie. Le rire est l’antidote du stress\, il permet d’arrêter le brouhaha intérieur\, d’habiter l’instant présent. La vie trépidante des adultes\, la bienséance\, l’éducation\, font oublier les rires de l’enfance. Ce stage est une invitation à retrouver la spontanéité de la jeunesse\, un voyage au travers des émotions\, une expérience unique pour réveiller l’énergie ludique qui est en nous. Ouvert à tout adulte qui désire se connecter avec son clown naturel et quotidien\, ce stage est animé par Ciscu Margenat Escobairó\, Clown de profession. Formé dans la prestigieuse École Jacques Lecoq à Paris\, il se consacre depuis 2010 à la pédagogie du clown\, une pédagogie en mouvement\, drôle et profonde\, aux nombreux effets thérapeutiques. \nPublic : adulte \nSur inscription \nTarifs : 45 € / 40 € (adhérents) \n \n  \n  \n  \n 
URL:https://mjclamaisoun.fr/event/stage-clown/
LOCATION:MJC
CATEGORIES:autre,cirque,Stage
ATTACH;FMTTYPE=image/jpeg:https://mjclamaisoun.fr/wp-content/uploads/2023/07/stage-clown-scaled.jpg
END:VEVENT
END:VCALENDAR