BEGIN:VCALENDAR
VERSION:2.0
PRODID:-//MJC La maisoun - ECPv5.14.1//NONSGML v1.0//EN
CALSCALE:GREGORIAN
METHOD:PUBLISH
X-WR-CALNAME:MJC La maisoun
X-ORIGINAL-URL:https://mjclamaisoun.fr
X-WR-CALDESC:évènements pour MJC La maisoun
BEGIN:VTIMEZONE
TZID:Europe/Paris
BEGIN:DAYLIGHT
TZOFFSETFROM:+0100
TZOFFSETTO:+0200
TZNAME:CEST
DTSTART:20260329T010000
END:DAYLIGHT
BEGIN:STANDARD
TZOFFSETFROM:+0200
TZOFFSETTO:+0100
TZNAME:CET
DTSTART:20261025T010000
END:STANDARD
END:VTIMEZONE
BEGIN:VEVENT
DTSTART;TZID=Europe/Paris:20260509T210000
DTEND;TZID=Europe/Paris:20260509T210000
DTSTAMP:20260423T192943
CREATED:20250625T095441Z
LAST-MODIFIED:20260413T074122Z
UID:50922-1778360400-1778360400@mjclamaisoun.fr
SUMMARY:Perqué pas ? - Concert trad électro musique du monde
DESCRIPTION:samedi 9 mai à 20h30 \nConcert trad électro musique du monde \nDe l’occitan autrement\, c’est la marque de fabrique de Guillaume Lopez. Ce nouveau spectacle pousse encore plus loin la création\, le mélange des styles\, le brouillage des pistes. « Perqué pas ? » Pourquoi ne pas s’inspirer des musiques traditionnelles des pays d’oc et de la Méditerranée pour créer un univers musical situé quelque part entre le jazz et le rock progressif en passant par des musiques planantes\, quasi cinématographiques. Guillaume chante en occitan et en espagnol\, accompagné par Étienne aux claviers et Simon aux percussions. Ensemble\, ce trio improbable dévoile une fougue rythmique incandescente qui surprend à chaque instant. \nGuillaume Lopez :  chant\, flûtes\, cornemuse Étienne Manchon : claviers Simon Portefaix : batterie\, percussions Alfonso Bravo : son \n  \n\n\nBilletterie en ligne ou 05 62 07 21 06 ou contact@mjclamaisoun.fr\n6 à 12 € \n \n\n﻿
URL:https://mjclamaisoun.fr/event/porque-pas-concert/
LOCATION:MJC
CATEGORIES:Concert
ATTACH;FMTTYPE=image/jpeg:https://mjclamaisoun.fr/wp-content/uploads/2025/06/perque-pas-_J.-Ducos.jpg
END:VEVENT
END:VCALENDAR