BEGIN:VCALENDAR
VERSION:2.0
PRODID:-//MJC La maisoun - ECPv5.14.1//NONSGML v1.0//EN
CALSCALE:GREGORIAN
METHOD:PUBLISH
X-WR-CALNAME:MJC La maisoun
X-ORIGINAL-URL:https://mjclamaisoun.fr
X-WR-CALDESC:évènements pour MJC La maisoun
BEGIN:VTIMEZONE
TZID:Europe/Paris
BEGIN:DAYLIGHT
TZOFFSETFROM:+0100
TZOFFSETTO:+0200
TZNAME:CEST
DTSTART:20230326T010000
END:DAYLIGHT
BEGIN:STANDARD
TZOFFSETFROM:+0200
TZOFFSETTO:+0100
TZNAME:CET
DTSTART:20231029T010000
END:STANDARD
END:VTIMEZONE
BEGIN:VEVENT
DTSTART;TZID=Europe/Paris:20231122T200000
DTEND;TZID=Europe/Paris:20231122T200000
DTSTAMP:20260425T042727
CREATED:20230801T074119Z
LAST-MODIFIED:20231113T162449Z
UID:49627-1700683200-1700683200@mjclamaisoun.fr
SUMMARY:Picasso\, monstre sacré - Conférence Histoire de l'art
DESCRIPTION:Mercredi 22 novembre – 20h \nPablo Picasso\, peintre\, dessinateur\, sculpteur et graveur espagnol\, il utilisait tous les supports pour son travail. Il est l’un des plus importants artistes du XXe siècle\, tant par ses apports techniques et formels que par ses prises de positions politiques. \nLe 8 avril 1973\, Pablo Picasso disparaissait\, après une carrière artistique longue et haute en couleurs. Pour commémorer le cinquantième anniversaire de cette disparition\, documentaires et expositions ont fleuri toute l’année. A son tour\, la MJC souhaite marquer cet anniversaire par une conférence consacrée à ce personnage qui n’en finit pas de faire parler de lui. Mais nous insisterons essentiellement sur l’aspect artistique de Picasso\, les différentes périodes et les innombrables inventions qu’il a réalisées et qui en font à tout jamais un des monstres sacrés de l’art contemporain. \nLa conférence est assurée par Charlotte de Malet\, diplômée de l’Ecole du Louvre et d’un master d’Histoire à Paris IV-Sorbonne. Tour à tour conférencière des Musées nationaux\, conférencière nationale puis guide-conférencière\, elle est passionnée par la connaissance (en histoire et histoire de l’art) et par la transmission\, le partage de connaissance. En quelques années de carrière\, elle a exploré de nombreux moyens de transmettre : visites\, conférences\, cours\, accompagnements de voyages\, quelques émissions de télé et autres articles… A travers ces cours et conférence\, elle va vous transmettre certes ses connaissances\, mais surtout : apprendre à regarder\, à comprendre\, à prendre son temps pour découvrir\, associer\, construire un savoir qui est le sien propre\, donner des clés pour susciter la curiosité\, et surtout procurer plaisir et joie à naviguer dans le temps et les arts. \n\nPlus d’informations sur la conférencière : www.art-histoire.fr \n\n  \nPlein tarif : 12 € / Tarif adhérent : 10 € / Tarif réduit : 6 € / gratuit (moins de 15 ans)
URL:https://mjclamaisoun.fr/event/picasso-monstre-sacre-conference-histoire-de-lart/
LOCATION:MJC
CATEGORIES:Conférence,histoire
ATTACH;FMTTYPE=image/jpeg:https://mjclamaisoun.fr/wp-content/uploads/2023/07/Pablo_picasso_1.jpg
END:VEVENT
END:VCALENDAR