BEGIN:VCALENDAR
VERSION:2.0
PRODID:-//MJC La maisoun - ECPv5.14.1//NONSGML v1.0//EN
CALSCALE:GREGORIAN
METHOD:PUBLISH
X-WR-CALNAME:MJC La maisoun
X-ORIGINAL-URL:https://mjclamaisoun.fr
X-WR-CALDESC:évènements pour MJC La maisoun
BEGIN:VTIMEZONE
TZID:Europe/Paris
BEGIN:DAYLIGHT
TZOFFSETFROM:+0100
TZOFFSETTO:+0200
TZNAME:CEST
DTSTART:20240331T010000
END:DAYLIGHT
BEGIN:STANDARD
TZOFFSETFROM:+0200
TZOFFSETTO:+0100
TZNAME:CET
DTSTART:20241027T010000
END:STANDARD
END:VTIMEZONE
BEGIN:VEVENT
DTSTART;TZID=Europe/Paris:20240309T103000
DTEND;TZID=Europe/Paris:20240309T113000
DTSTAMP:20260424T224531
CREATED:20231120T092257Z
LAST-MODIFIED:20231120T092257Z
UID:49853-1709980200-1709983800@mjclamaisoun.fr
SUMMARY:Philo pour filous – Les ateliers philo des 8-10 ans #6
DESCRIPTION:La MJC remet au programme les ateliers philo pour les enfants ! Et si vous inscriviez votre enfant (+/- 8-10 ans) à un atelier philo ? \nUn atelier philo avec les enfants\, ce n’est pas un cours de philosophie. 😉 L’animateur ne transmet pas un savoir : il est là pour permettre aux enfants d’exprimer leur pensée et de débattre entre eux dans un cadre démocratique. 💭Concrètement\, l’animateur explique au préalable l’objectif\, le fonctionnement et les règles fondamentales d’un atelier philo (écouter les autres\, ne pas juger ou se moquer\, argumenter etc.) et lance un débat à partir d’une question philosophique (choisie par les enfants la séance précédente).  \nCes temps d’échanges mensuels\, en groupe de 5 à 10 enfants\, permettent aux enfants d’élaborer des réflexions critiques\, d’acquérir la capacité de penser par soi-même. 🤔 \nUn samedi par mois\, de 10h30 à 11h30 \n14 €/an (= adhésion à la MJC)
URL:https://mjclamaisoun.fr/event/philo-pour-filous-les-ateliers-philo-des-8-10-ans-6-2/
LOCATION:MJC
CATEGORIES:autre
ATTACH;FMTTYPE=image/png:https://mjclamaisoun.fr/wp-content/uploads/2023/08/debats-philoFB.png
END:VEVENT
END:VCALENDAR