BEGIN:VCALENDAR
VERSION:2.0
PRODID:-//MJC La maisoun - ECPv5.14.1//NONSGML v1.0//EN
CALSCALE:GREGORIAN
METHOD:PUBLISH
X-WR-CALNAME:MJC La maisoun
X-ORIGINAL-URL:https://mjclamaisoun.fr
X-WR-CALDESC:évènements pour MJC La maisoun
BEGIN:VTIMEZONE
TZID:Europe/Paris
BEGIN:DAYLIGHT
TZOFFSETFROM:+0100
TZOFFSETTO:+0200
TZNAME:CEST
DTSTART:20250330T010000
END:DAYLIGHT
BEGIN:STANDARD
TZOFFSETFROM:+0200
TZOFFSETTO:+0100
TZNAME:CET
DTSTART:20251026T010000
END:STANDARD
END:VTIMEZONE
BEGIN:VEVENT
DTSTART;TZID=Europe/Paris:20250326T193000
DTEND;TZID=Europe/Paris:20250430T213000
DTSTAMP:20260422T105426
CREATED:20240717T114222Z
LAST-MODIFIED:20250204T102928Z
UID:50556-1743017400-1746048600@mjclamaisoun.fr
SUMMARY:Parcours vocal #3
DESCRIPTION:Mercredis 26 mars\, 2\, 9\, 16 et 30 avril (de 19h30 à 21h30) \nCe troisième parcours vocal abordera le répertoire croisé de Guillaume Lopez et Marco Grancelli. Sur des musiques composées pour l’occasion et inspirées des sonorités Occitano-Argentines\, l’atelier abordera les rythmes\, les timbres\, la polyphonie et le chant à répondre. \nPour chanteurs confirmés. \nAteliers animés par Guillaume Lopez. \nLes stagiaires assureront une restitution de ces ateliers en 1ere partie du concert « Enlaces » avec le Trio Lopez\, Grancelli\, Gimenez-Luna du samedi 3 mai. \nTarif 95€ + 14€ d’adhésion \nInscrivez-vous en ligne !
URL:https://mjclamaisoun.fr/event/parcours-vocal-3/
CATEGORIES:Concert,Stage
ATTACH;FMTTYPE=image/jpeg:https://mjclamaisoun.fr/wp-content/uploads/2024/07/parcours-vocal.jpg
END:VEVENT
END:VCALENDAR