BEGIN:VCALENDAR
VERSION:2.0
PRODID:-//MJC La maisoun - ECPv5.14.1//NONSGML v1.0//EN
CALSCALE:GREGORIAN
METHOD:PUBLISH
X-WR-CALNAME:MJC La maisoun
X-ORIGINAL-URL:https://mjclamaisoun.fr
X-WR-CALDESC:évènements pour MJC La maisoun
BEGIN:VTIMEZONE
TZID:Europe/Paris
BEGIN:DAYLIGHT
TZOFFSETFROM:+0100
TZOFFSETTO:+0200
TZNAME:CEST
DTSTART:20240331T010000
END:DAYLIGHT
BEGIN:STANDARD
TZOFFSETFROM:+0200
TZOFFSETTO:+0100
TZNAME:CET
DTSTART:20241027T010000
END:STANDARD
END:VTIMEZONE
BEGIN:VEVENT
DTSTART;TZID=Europe/Paris:20240203T203000
DTEND;TZID=Europe/Paris:20240203T220000
DTSTAMP:20260425T000032
CREATED:20230801T080806Z
LAST-MODIFIED:20240201T134828Z
UID:49674-1706992200-1706997600@mjclamaisoun.fr
SUMMARY:Olga - Comédie tragique pour humain en moonboots
DESCRIPTION:Samedi 3 février– 20h30 Mêlant joyeusement théâtre\, conte\, clown et chant\, Nathalie Vinot déploie un drôle d’univers cruel et poétique\, vibrant d’humanité. Telle une poupée russe\, son Olga fait jaillir une multitude de personnages cachés à l’intérieur d’une vieille dame en colère contre la folie du monde et nous bringuebale du rire aux larmes avec une énergie ébouriffante ! « Olga parle\, elle est née avec les fesses froides mais la langue bien pendue\, elle parle aux chaises\, aux ours\, à la neige… Elle nous raconte les us et coutumes de la Mortavie\, son pays intérieur du fin fond de l’est. Elle se tient juste à la lisière de la forêt fantasmagorique\, là où ça bruisse et ça grince. Elle chante aussi\, pour faire rire les corbeaux et défroisser les barbelés… » 12 €/ 10 € / 6€ à partir de 12 ans Chapka Cie – Écriture et Jeu : Nathalie Vinot // Regard intérieur : Christian Brazier // Création lumière : David Puyoou Réservations bienvenues au 07 71 56 48 95 ou contact@mjclamaisoun.fr  \n\nà découvrir en audio…\n\n\n\n Nathalie Vinot\, de la Compagnie Chapka\, raconte son spectacle Olga aux micros de Radio Fil de l’Eau… \n\n\n\n\n\nécouter l’émission\n\n 
URL:https://mjclamaisoun.fr/event/olga/
LOCATION:MJC
CATEGORIES:Théatre
ATTACH;FMTTYPE=image/jpeg:https://mjclamaisoun.fr/wp-content/uploads/2023/08/OLGA-3-photo-Anne-Gidel-scaled.jpg
END:VEVENT
END:VCALENDAR