BEGIN:VCALENDAR
VERSION:2.0
PRODID:-//MJC La maisoun - ECPv5.14.1//NONSGML v1.0//EN
CALSCALE:GREGORIAN
METHOD:PUBLISH
X-WR-CALNAME:MJC La maisoun
X-ORIGINAL-URL:https://mjclamaisoun.fr
X-WR-CALDESC:évènements pour MJC La maisoun
BEGIN:VTIMEZONE
TZID:Europe/Paris
BEGIN:DAYLIGHT
TZOFFSETFROM:+0100
TZOFFSETTO:+0200
TZNAME:CEST
DTSTART:20250330T010000
END:DAYLIGHT
BEGIN:STANDARD
TZOFFSETFROM:+0200
TZOFFSETTO:+0100
TZNAME:CET
DTSTART:20251026T010000
END:STANDARD
END:VTIMEZONE
BEGIN:VEVENT
DTSTART;TZID=Europe/Paris:20251205T180000
DTEND;TZID=Europe/Paris:20251205T210000
DTSTAMP:20260424T081118
CREATED:20250807T075105Z
LAST-MODIFIED:20251106T155624Z
UID:51134-1764957600-1764968400@mjclamaisoun.fr
SUMMARY:Nuit de la démocratie - 7è édition
DESCRIPTION:Rejoignez-nous pour la Nuit de la Démocratie et des Territoire 2025 !!! \nLa septième édition de la Nuit de la démocratie et des territoires\, organisée par les Localos et l’association LIRES\, aura lieu localement à la MJC La Maisoun. La soirée est co-organisée par L’Isle-Jourdain en Transition et la MJC La Maisoun. \nLe thème de cette année : comment tisser de nouvelles alliances entre humains et non-humains ?\nNous vous invitons à participer à la prochaine soirée « Nuit de la démocratie et des territoires » vendredi 5 décembre 2025 de 18 h à 20 h 30\, en compagnie de Sophie Gosselin. \nSophie Gosselin est agrégée et docteure en philosophie qu’elle enseigne à l’Université de Tours et à l’EHESS. Son travail de recherche porte sur les conséquences philosophiques de la crise écologique et du tournant ontologique en anthropologie. \nElle est l’autrice\, avec David gé Bartoli\, de :\n– Le Toucher du monde\, techniques du naturer (éditions Dehors\, 2019) ;\n– La Condition terrestre. Habiter la Terre en communs (éditions Seuil\, 2022). \nMembres du comité de rédaction de la revue Terrestres.org\, ils animent l’Université populaire pour la Terre de Tours dont les thèmes traitent de la crise écologique et de l’événement anthropocène.. \nExtrait vidéo de l’entretien avec Sophie Gosselin\n \n \nDéroulement de la soirée\nCette soirée est un moment de témoignage et d’échanges qui peut se vivre soi en présentiel (rendez-vous à la MJC à 17h45)\, soit depuis chez soi (sur inscription : ici !) \nLa soirée se déroule en 3 temps : \n\nOn se retrouve (via un lien zoom) avec toutes les personnes de France et d’ailleurs qui participeront à cette nuit de la démocratie.\nOn visionne une vidéo avec Sophie Gosselin\nDe 19h à 20h30 : On participe aux ateliers « apprenants » à partir de l’entretien vidéo et temps d’échanges guidés menant à l’écriture d’une synthèse collective.\n\nSi vous voulez assister à cette soirée à la MJC\, merci de bien vouloir vous inscrire à lijet@lislejourdainentransition.fr \n 
URL:https://mjclamaisoun.fr/event/nuit-de-la-democratie-7e-edition/
CATEGORIES:autre,transition
ATTACH;FMTTYPE=image/png:https://mjclamaisoun.fr/wp-content/uploads/2025/08/bandeau-nuit-1.png
END:VEVENT
END:VCALENDAR