BEGIN:VCALENDAR
VERSION:2.0
PRODID:-//MJC La maisoun - ECPv5.14.1//NONSGML v1.0//EN
CALSCALE:GREGORIAN
METHOD:PUBLISH
X-WR-CALNAME:MJC La maisoun
X-ORIGINAL-URL:https://mjclamaisoun.fr
X-WR-CALDESC:évènements pour MJC La maisoun
BEGIN:VTIMEZONE
TZID:Europe/Paris
BEGIN:DAYLIGHT
TZOFFSETFROM:+0100
TZOFFSETTO:+0200
TZNAME:CEST
DTSTART:20230326T010000
END:DAYLIGHT
BEGIN:STANDARD
TZOFFSETFROM:+0200
TZOFFSETTO:+0100
TZNAME:CET
DTSTART:20231029T010000
END:STANDARD
END:VTIMEZONE
BEGIN:VEVENT
DTSTART;TZID=Europe/Paris:20230602T190000
DTEND;TZID=Europe/Paris:20230602T230000
DTSTAMP:20260425T054820
CREATED:20230515T145649Z
LAST-MODIFIED:20230622T102758Z
UID:49414-1685732400-1685746800@mjclamaisoun.fr
SUMMARY:Moi J’ai Concert
DESCRIPTION:Démonstrations et restitutions musicales des élèves (adultes et enfants) des sections guitare\, basse\, batterie et piano. \nAu programme pour vos oreilles : Ben Harper\, Oasis\, U2\, Angus et Julia Stone\, Yael Naim\, Green day\, 4 Non Blondes\, Guns N’ Roses\, Indochine\, Cranberries\, Nirvana\, Otis Redding\, JJ Goldman\, The Beattles et bien d’autres !! \nEn partenariat avec la DSDEN du Gers\, la CAF 32 et L’ADDAGers
URL:https://mjclamaisoun.fr/event/moi-jai-concert/
LOCATION:MJC
CATEGORIES:Concert
ATTACH;FMTTYPE=image/png:https://mjclamaisoun.fr/wp-content/uploads/2023/05/Moi-Jai-Concert-.png
END:VEVENT
END:VCALENDAR