BEGIN:VCALENDAR
VERSION:2.0
PRODID:-//MJC La maisoun - ECPv5.14.1//NONSGML v1.0//EN
CALSCALE:GREGORIAN
METHOD:PUBLISH
X-WR-CALNAME:MJC La maisoun
X-ORIGINAL-URL:https://mjclamaisoun.fr
X-WR-CALDESC:évènements pour MJC La maisoun
BEGIN:VTIMEZONE
TZID:Europe/Paris
BEGIN:DAYLIGHT
TZOFFSETFROM:+0100
TZOFFSETTO:+0200
TZNAME:CEST
DTSTART:20250330T010000
END:DAYLIGHT
BEGIN:STANDARD
TZOFFSETFROM:+0200
TZOFFSETTO:+0100
TZNAME:CET
DTSTART:20251026T010000
END:STANDARD
END:VTIMEZONE
BEGIN:VEVENT
DTSTART;TZID=Europe/Paris:20250111T180000
DTEND;TZID=Europe/Paris:20250111T180000
DTSTAMP:20260425T000104
CREATED:20240717T090126Z
LAST-MODIFIED:20241125T105846Z
UID:50508-1736618400-1736618400@mjclamaisoun.fr
SUMMARY:Concerts Happy'funny - Comme A
DESCRIPTION:La fève du samedi soir nous revient cette année encore début janvier  ! \nL’occasion de partager un moment convivial et une galette entre amis et en musique. \nL’ambiance musicale est assurée en première partie par Les Maisoun Jam & Cover\, le groupe de reprise pop-rock issu des ateliers musicaux de la MJC. Puis vient le tour de Comme A\, l’efficacité du Rock combiné à un chant lumineux\, le tout baigné de soleil…\n \n\nLa soirée idéale pour se souhaiter le meilleur pour 2025.  \nEntrée Libre\, réservation appréciée au 05.62.07.21.06 – 07.71.56.48.95 ou contact@mjclamaisoun.fr \nOuverture des portes à 18h\, début des concerts à 19h. \nLes Maisoun Jam & Cover\nLes Maisoun Jam & Cover\, ce sont les élèves des cours de musique (guitare\, batterie\, basse\, piano et chant) de la MJC. Ils vous proposeront du Julien Doré\, Mathieu Chedid\, Gainsbourg\, ou encore Niagara\, Zaho de Sagazan\, Sheryl Crow… \nComme A\nAuriane a ce petit ton en plus qui captive tout de suite… C’est en combattante qu’elle chante “les vies” mêlées d’épreuves et d’espoir. Sa voix porte ces histoires avec une rare énergie\, qu’elle nous livre en mélodies entêtantes et ensoleillées de thèmes hispaniques voire orientaux dans lequel s’invite parfois un flow rap… Le combo batterie et guitares\, propulse le tout au son rock\, dynamisé d’harmonies exigeantes. Vibrant\, puissant\, brillant ! \nComme A\, comme le A\, point de départ d’Auriane\, Autrice-Compositrice-lnterprète depuis son plus jeune âge.\nAprès avoir étudié dès l’âge de 6 ans le violon\, une aisance naturelle pour le chant lui permettra à 14 ans de composer ses premières chansons accompagnée de sa guitare .. . Elle côtoie la scène dès l’enfance et s’y sent incroyablement bien … Seulement\, voilà .. .\nComme A\, tel le Coma qu’elle vivra durant 3 semaines après un terrible accident de voiture\, alors qu’elle suit des études de psychologie … Une expérience très douloureuse pour son corps meurtri\, mais pourtant un voyage philosophique intense Comme Acte fondateur d’une nouvelle façon de réfléchir et d’appréhender sa vie et ses projets. Alors …\nComme A\, comme Alpha\, un recommencement\, une renaissance … Ré-apprendre à marcher\, à danser … Ré-apprendre à lire\, à écrire\, à écouter\, à parler … Et\, alors qu’elle a perdu la mémoire et est totalement aphasique\, « Chanter » est la première chose qui revient\, comme le cri miraculeux d’un Phoenix …\nUn combat de toute heure\, une Lutte de Guerrière\, avec l’art et l’espoir chevillés au corps … Pour enfin … Revivre! Chanter à gorge déployée! Et…voyager …\nComme A enfin\, tel le Comma musical\, la virgule qui fait l’infime différence\, la singularité … Telle sa rencontre en 2021 avec le guitariste/compositeur et producteur Marc Denis\, et plus tard avec le batteur Sebastien Cornet et le guitariste/chanteur Renaud Marquié. Un groupe de musiciens expérimentés comme un Roc(k) sur lequel adosser la ferveur solaire de\nses chansons …\nCar\, Comme A est bien l’alchimie de l’efficacité Rock\, et d’un Chant lumineux\, baigné de soleil… \n\nLe soleil du midi ou les pas d’Auriane ont grandi … par deux fois … \nLe soleil de peuples nomades dans le noir profond de ses cheveux et dans l’Or de sa voix … \nLe soleil de lointains voyages et contrées où ses idées ont germé … \nLe soleil d’une ville ocre où les chansons ont poussé … \nLe soleil d’un horizon … \nOù le « rayon vert» de « l’espoir qui fait vivre »\, \nn’était ni légende ni proverbe\, \nmais l’Aube d’une irrépressible explosion créative … \nUne histoire\, un combat\, \nOù le Noir est le socle du Vert et de l’Or \nUne musique comme nulle autre … \nJuste\, Comme A.
URL:https://mjclamaisoun.fr/event/happyfunny25/
CATEGORIES:Concert
ATTACH;FMTTYPE=image/jpeg:https://mjclamaisoun.fr/wp-content/uploads/2024/07/auriane-raton-📷Laurent-Minh.jpg
END:VEVENT
END:VCALENDAR