BEGIN:VCALENDAR
VERSION:2.0
PRODID:-//MJC La maisoun - ECPv5.14.1//NONSGML v1.0//EN
CALSCALE:GREGORIAN
METHOD:PUBLISH
X-WR-CALNAME:MJC La maisoun
X-ORIGINAL-URL:https://mjclamaisoun.fr
X-WR-CALDESC:évènements pour MJC La maisoun
BEGIN:VTIMEZONE
TZID:Europe/Paris
BEGIN:DAYLIGHT
TZOFFSETFROM:+0100
TZOFFSETTO:+0200
TZNAME:CEST
DTSTART:20240331T010000
END:DAYLIGHT
BEGIN:STANDARD
TZOFFSETFROM:+0200
TZOFFSETTO:+0100
TZNAME:CET
DTSTART:20241027T010000
END:STANDARD
END:VTIMEZONE
BEGIN:VEVENT
DTSTART;TZID=Europe/Paris:20240309T203000
DTEND;TZID=Europe/Paris:20240309T220000
DTSTAMP:20260424T224342
CREATED:20230731T141029Z
LAST-MODIFIED:20240304T110034Z
UID:49661-1710016200-1710021600@mjclamaisoun.fr
SUMMARY:Gros câlin - Théâtre
DESCRIPTION:Samedi 9 mars – 20h30 \nMonsieur Cousin\, timide statisticien noyé dans un Paris trop grand pour lui\, adopte un python pour combler son manque de tendresse. Lorsqu’un python s’enroule autour de vous et vous serre bien fort\, la taille\, les épaules\, et appuie sa tête contre votre cou\, vous n’avez qu’à fermer les yeux pour vous sentir tendrement aimé. C’est la fin de l’impossible\, à quoi j’aspire de tout mon être. Moi\, il faut dire\, j’ai toujours manqué de bras. Deux bras\, les miens\, c’est du vide. Il m’en faudrait deux autres autour.\nFable humoristique et premier roman de Romain Gary sous le pseudonyme d’Emile Ajar\, Gros-Câlin est le récit labyrinthique d’une solitude\, l’histoire d’un homme qui se débat dans une vie qu’il voudrait joyeuse. C’est tout à la fois drôle et pathétique\, absurde et émouvant. Humain tout simplement. \nAdaptation\, mise en scène et jeu : Denis Rey \nCie La nuit se lève : www.etcompagnies.org/lanuitseleve/gros-calin/ \n« D’après Gros-Câlin de Romain Gary (Emile Ajar). © Mercure de France\, droits théâtre gérés par les éditions Gallimard. » \nTarifs : 12 € / 10 € / 6 € \nA découvrir en quelques minutes :
URL:https://mjclamaisoun.fr/event/gros-calin-theatre/
LOCATION:MJC
CATEGORIES:Théatre
ATTACH;FMTTYPE=image/jpeg:https://mjclamaisoun.fr/wp-content/uploads/2023/07/©JustineDucat.jpg
END:VEVENT
END:VCALENDAR