BEGIN:VCALENDAR
VERSION:2.0
PRODID:-//MJC La maisoun - ECPv5.14.1//NONSGML v1.0//EN
CALSCALE:GREGORIAN
METHOD:PUBLISH
X-WR-CALNAME:MJC La maisoun
X-ORIGINAL-URL:https://mjclamaisoun.fr
X-WR-CALDESC:évènements pour MJC La maisoun
BEGIN:VTIMEZONE
TZID:Europe/Paris
BEGIN:DAYLIGHT
TZOFFSETFROM:+0100
TZOFFSETTO:+0200
TZNAME:CEST
DTSTART:20240331T010000
END:DAYLIGHT
BEGIN:STANDARD
TZOFFSETFROM:+0200
TZOFFSETTO:+0100
TZNAME:CET
DTSTART:20241027T010000
END:STANDARD
END:VTIMEZONE
BEGIN:VEVENT
DTSTART;TZID=Europe/Paris:20240228T193000
DTEND;TZID=Europe/Paris:20240228T223000
DTSTAMP:20260424T224235
CREATED:20231121T131535Z
LAST-MODIFIED:20240126T135121Z
UID:49880-1709148600-1709159400@mjclamaisoun.fr
SUMMARY:Fresque des nouveaux récits
DESCRIPTION:mercredi 28 février  de 19 h 30 à 22 h 30 \nDécouvrez grâce à un jeu de cartes collaboratif quelle est l’influence des récits sur notre cerveau et nos comportements. Vous pourrez ainsi lever les verrous socio-cognitifs actuels qui nous maintiennent dans le statu quo\, et contribuer à la nécessaire transition écologique et solidaire. Construisez ensuite un récit permettant de faire advenir un futur désirable et compatible avec les limites planétaires ! \nPour créer une société différente\, il faut déjà l’imaginer !\nDéroulé d’un atelier\n\nLA FRESQUE : 1h15 : Comprendre comment les récits dominants actuels influencent les processus et les comportements au sein des organisations\, freinant ainsi la transition.\nTRANSITION : 15 min : Prendre conscience de l’impact des récits dans notre société actuelle.\nLE RÉCIT : 1h30 : Comment nous changerons le monde : Imaginer collectivement de nouvelles trajectoires organisationnelles\, alignées avec les principes de l’économie du donut\, afin de faire émerger le contour d’un nouveau récit inspirant pour se projeter vers une organisation contributive et désirable.\n\nLes récits sont au cœur de nos pensées\, nos choix et nos comportements. Ils guident nos objectifs de vie et nos désirs en société. Il sont un excellent moyen de nous faire chavirer pour entamer une transition.\nÀ qui s’adresse cet atelier ?\nLa Fresque des Nouveaux Récits s’adresse à toute personne qui souhaite : \n\nConstruire des alternatives aux normes sociales devenues obsolètes\nChanger ses perceptions des réalités pour favoriser l’émergence de l’économie du donut\nÉveiller la capacité de créativité (notamment par un processus artistique) en nourrissant l’intelligence collective\, la collaboration\nTravailler sur son éco-anxiété\n\nLes objectifs de l’atelier\n\nCOMPRENDRE : Comprendre les verrous socio-cognitifs qui freinent l’adoption de comportements sobres et soutenables\nPARTAGER : Se relier collectivement à notre pouvoir créatif afin de partager des nouveaux récits à travers le monde\nAGIR : Retrouver espoir en sa capacité d’agir pour faire émerger un futur désirable et souhaitable pour tous\n\n  Les fondements théoriques de la Fresque des Nouveaux Récits se situent dans une multitude d’ouvrages de psychologie\, sociologie\, neurosciences\, anthropologie (les sources sont citées sur le site de la fresque des nouveaux récits) \n\n\nVisitez le site de la Fresque des Nouveaux Récits\n\n \n\n   \nEn partenariat avec L’Isle-Jourdain en Transition (LIJeT).   \nInscription obligatoire (nombre de places limitées)  en ligne :  \n\n\nInscrivez-vous ici !\n\n 
URL:https://mjclamaisoun.fr/event/fresque-des-nouveaux-recits/
LOCATION:MJC
CATEGORIES:autre,transition
ATTACH;FMTTYPE=image/png:https://mjclamaisoun.fr/wp-content/uploads/2023/11/fresque-nvx-recits.png
END:VEVENT
END:VCALENDAR