BEGIN:VCALENDAR
VERSION:2.0
PRODID:-//MJC La maisoun - ECPv5.14.1//NONSGML v1.0//EN
CALSCALE:GREGORIAN
METHOD:PUBLISH
X-WR-CALNAME:MJC La maisoun
X-ORIGINAL-URL:https://mjclamaisoun.fr
X-WR-CALDESC:évènements pour MJC La maisoun
BEGIN:VTIMEZONE
TZID:Europe/Paris
BEGIN:DAYLIGHT
TZOFFSETFROM:+0100
TZOFFSETTO:+0200
TZNAME:CEST
DTSTART:20260329T010000
END:DAYLIGHT
BEGIN:STANDARD
TZOFFSETFROM:+0200
TZOFFSETTO:+0100
TZNAME:CET
DTSTART:20261025T010000
END:STANDARD
END:VTIMEZONE
BEGIN:VEVENT
DTSTART;TZID=Europe/Paris:20260122T193000
DTEND;TZID=Europe/Paris:20260122T223000
DTSTAMP:20260424T105254
CREATED:20250807T080126Z
LAST-MODIFIED:20260112T095130Z
UID:51137-1769110200-1769121000@mjclamaisoun.fr
SUMMARY:Fresque des Frontières Planétaires
DESCRIPTION:Jeudi 22 janvier\, de 19h30 à 22h30. \nEt si vous découvriez ce qui rend notre planète habitable ? \nEn 3h\, en équipe et de façon ludique\, cet atelier vous plonge dans les grands équilibres écologiques de la Terre\, à travers le prisme des 9 frontières planétaires : climat\, biodiversité\, cycles de l’eau ou encore pollution chimique… \nGuidé·e par un·e animateur·rice\, vous explorerez\, en jouant\, les liens entre ces enjeux\, réaliserez une fresque collective\, partagerez vos ressentis\, et imaginerez ensemble des pistes d’action concrètes. \nLe changement climatique\, une frontière parmi d’autres ! \nLes frontières planétaires ou « planetary boundaries » ont initialement été proposées par le Stockholm Resilience Centre. Il existe 9 processus terrestres qui permettent l’habitabilité de la Terre pour l’espèce humaine. Les frontières planétaires sont les seuils au-delà desquels le processus est significativement perturbé. Le changement climatique en est une\, l’appauvrissement de la couche d’ozone en est une autre. \nPlus d’informations sur cette fresque : https://www.1erdegre.earth/fresque-des-frontieres-planetaires \nFresque organisée en partenariat avec l’association L’Isle-Jourdain En Transition (L’IJET). \ninscription nécessaire : par mail lijet@lislejourdainentransition.fr \nAnimateur :\nArnaud CAYROL – Conseil/Formation/Sensibilisation Transition Energétique et Ecologique\nLinkedin : https://www.linkedin.com/in/arnaud-cayrol-970091130/\nSCOP CAE Kanopé – Auch \n  \navec le soutien du groupe Ecocert \n 
URL:https://mjclamaisoun.fr/event/fresque-des-frontieres-planetaires/
CATEGORIES:autre,transition
ATTACH;FMTTYPE=image/png:https://mjclamaisoun.fr/wp-content/uploads/2025/08/Fresque-des-Frontieres-Planetaires.png
END:VEVENT
END:VCALENDAR