BEGIN:VCALENDAR
VERSION:2.0
PRODID:-//MJC La maisoun - ECPv5.14.1//NONSGML v1.0//EN
CALSCALE:GREGORIAN
METHOD:PUBLISH
X-WR-CALNAME:MJC La maisoun
X-ORIGINAL-URL:https://mjclamaisoun.fr
X-WR-CALDESC:évènements pour MJC La maisoun
BEGIN:VTIMEZONE
TZID:Europe/Paris
BEGIN:DAYLIGHT
TZOFFSETFROM:+0100
TZOFFSETTO:+0200
TZNAME:CEST
DTSTART:20240331T010000
END:DAYLIGHT
BEGIN:STANDARD
TZOFFSETFROM:+0200
TZOFFSETTO:+0100
TZNAME:CET
DTSTART:20241027T010000
END:STANDARD
END:VTIMEZONE
BEGIN:VEVENT
DTSTART;TZID=Europe/Paris:20241017T193000
DTEND;TZID=Europe/Paris:20241017T223000
DTSTAMP:20260424T111650
CREATED:20240717T102703Z
LAST-MODIFIED:20240827T082211Z
UID:50525-1729193400-1729204200@mjclamaisoun.fr
SUMMARY:Fresque du Climat
DESCRIPTION:Basé sur l’intelligence collective\, ce jeu de cartes (dont le contenu est issu des rapports du GIEC) permet à chacun de comprendre le fonctionnement\, l’ampleur et la complexité des enjeux liés aux dérèglements climatiques. L’atelier est complété par le kit « Inventons nos vies bas carbone » pour prendre conscience des ordres de grandeur et des objectifs à atteindre pour une vie bas carbone (2 tonne de CO2/an/personne). \nDurée 3h\, participation aux frais libre. \nLa Fresque du Climat\nLa simplicité d’un jeu de cartes pour s’approprier les constats scientifiques du GIEC !\nSaurez-vous remettre dans l’ordre des causes et des effets les cartes décrivant le changement climatique ?\nFaites fructifier l’intelligence collective pour comprendre les enjeux du climat ! \nCréée par Cédric Ringenbach\, La Fresque du Climat est un atelier ludique\, participatif et créatif sur le changement climatique. Basé sur l’intelligence collective\, il est extrêmement pédagogique : il permet d’en apprendre beaucoup en très peu de temps. Le principe est simplissime : remettre dans l’ordre des causes et des effets une quarantaine de cartes. L’initiation s’adresse aussi bien aux novices qu’aux connaisseurs.\nL’objectif ? Sensibiliser le plus de monde possible aux enjeux du climat pour changer son mode de vie et de travail en toute conscience. C’est également un excellent moyen de permettre aux équipes de se souder dans un moment d’échange et de réflexion collaborative et de faire apparaître les talents de créativité des uns et des autres. Le contenu est basé sur les rapports du GIEC. Les principes scientifiques sont décrits avec simplicité tout en gardant l’authenticité des informations. \nhttps://fresqueduclimat.org/ \nInventons Nos Vies Bas Carbone\nVisualiser simplement les sources de notre empreinte carbone pour mieux les réduire\nSavez-vous ce qui émet le plus de Co2 entre manger de la viande\, envoyer des mails et prendre l’avion une fois par an ? Le changement climatique nous lance un défi :  passer de 10 à 2 tonnes par an et par personne. Mais par où commencer ? \nLe kit pédagogique « Inventons nos vies bas carbone » a été inventé par Gildas et Claire Véret\, et enrichi par Arnaud Brulaire\, François-Joseph Grimault\, Mathieu Hestin\, les membres fondateurs de l’association Résistance Climatique\, partant du constat que très peu de personnes connaissent les ordres de grandeur de l’empreinte carbone actuelle d’une Française ou d’un Français moyen\, et encore moins les efforts à fournir pour respecter l’Accord de Paris et rester sous les +2°C voire +1\,5°C de réchauffement depuis l’ère pré-industrielle.\nL’idée de ce kit est de rendre ces informations claires et visuelles\, afin de créer une prise de conscience forte et donner envie d’agir pour changer son quotidien. \nhttps://www.resistanceclimatique.org/inventons_nos_vies_bas_carbone\n \n  \nEn partenariat avec L’Isle-Jourdain en Transition (LIJeT). \n  \nInscription obligatoire (nombre de places limitées) à tbclimat@mailo.com ou 06.51.98.06.40
URL:https://mjclamaisoun.fr/event/fresque-climat-24/
CATEGORIES:Stage,transition
ATTACH;FMTTYPE=image/jpeg:https://mjclamaisoun.fr/wp-content/uploads/2024/07/relexion-en-transition.jpeg
END:VEVENT
END:VCALENDAR