BEGIN:VCALENDAR
VERSION:2.0
PRODID:-//MJC La maisoun - ECPv5.14.1//NONSGML v1.0//EN
CALSCALE:GREGORIAN
METHOD:PUBLISH
X-WR-CALNAME:MJC La maisoun
X-ORIGINAL-URL:https://mjclamaisoun.fr
X-WR-CALDESC:évènements pour MJC La maisoun
BEGIN:VTIMEZONE
TZID:Europe/Paris
BEGIN:DAYLIGHT
TZOFFSETFROM:+0100
TZOFFSETTO:+0200
TZNAME:CEST
DTSTART:20240331T010000
END:DAYLIGHT
BEGIN:STANDARD
TZOFFSETFROM:+0200
TZOFFSETTO:+0100
TZNAME:CET
DTSTART:20241027T010000
END:STANDARD
END:VTIMEZONE
BEGIN:VEVENT
DTSTART;VALUE=DATE:20240531
DTEND;VALUE=DATE:20240602
DTSTAMP:20260425T054657
CREATED:20221215T153306Z
LAST-MODIFIED:20240528T132649Z
UID:49164-1717113600-1717286399@mjclamaisoun.fr
SUMMARY:Fête de la Maisoun - Moi j'ai concert
DESCRIPTION:Ven. 31 mai  et sam. 1er juin . 19h\n\nLes adhérents de la MJC présentent leur travail réalisé au cours de l’année dans les différents ateliers.\n\nAu programme : des concerts\, de la batucada\, des démonstrations de cirque\, capoeira\, danse africaine\, jazz\, street-jazz et contemporaine et des expositions de couture\, arts-plastiques\, photos…\n\nEntrée libre – Restauration et buvette sur place\n\n\n\n\n\nLe programme !\n\n\n\n\nVendredi 31 mai : « Moi J’ai Concert »\nDémonstrations et restitutions musicales des élèves (adultes et enfants) des sections guitare\, basse\, batterie et piano.\n\n19h-20h « Auditions » : restitutions musicales des élèves (adultes et enfants) des sections guitare\, basse\, batterie et piano\n\n20h30 – Moi J’ai Concert : concert des élèves inscrits aux ateliers musicaux (guitare\, basse\, batterie\, piano et chant). Au programme\, du rock\, de la pop et de la chanson française !\nSamedi 1er juin : Les ateliers font leurs show\nDès 17h – initiation aux échecs avec La Tour L’isloise\n\n18h30 – La batucada ouvrira les festivités en déambulant à travers la ville avant de rallier la cour de la Maisoun où sera offert le traditionnel apéritif (19h) !\n\nDès 19h30 – Place aux spectacles de chorale\, cirque\, capoeira\, danses africaine\, jazz et street-jazz\, contemporaine\, latino\, rock… présentés par les adhérents de la MJC (fruit du travail de l’année dans les différents ateliers).\n\nLa suite de la soirée est proposée par Radio Fil de L’Eau avec :\n\n 	21h – le «King of rock’n’roll» interprété par Eddine\, sosie d’Elvis Presley.\n 	21h30 – un concert d’Hylel Quartet. Hylel Quartet est une formation intimiste qui conjugue authenticité\, convivialité\, partage dans une ambiance chaleureuse.\n\nHylel Quartet à découvrir en vidéo :\n\n\n\n\n\n \nDes expositions tout le week-end !\nLes sections « photos »\, « arts-plastiques »\, « couture »\, « aiguille en main » exposeront leurs travaux de l’année sur les murs de la MJC.\n\nVous pourrez aussi (re)découvrir l’exposition spécialement conçue pour le passage de la flamme olympique.\n\n 
URL:https://mjclamaisoun.fr/event/fete-maisoun-24/
LOCATION:MJC
CATEGORIES:arts,autre,cirque,Concert,Conférence,Danse,Exposition,Radio,Théatre
ATTACH;FMTTYPE=image/jpeg:https://mjclamaisoun.fr/wp-content/uploads/2022/12/ateliers-musicuax-scaled.jpg
ORGANIZER;CN="MJC%20La%20maisoun":MAILTO:contact@mjclamaisoun.fr
END:VEVENT
END:VCALENDAR