BEGIN:VCALENDAR
VERSION:2.0
PRODID:-//MJC La maisoun - ECPv5.14.1//NONSGML v1.0//EN
CALSCALE:GREGORIAN
METHOD:PUBLISH
X-WR-CALNAME:MJC La maisoun
X-ORIGINAL-URL:https://mjclamaisoun.fr
X-WR-CALDESC:évènements pour MJC La maisoun
BEGIN:VTIMEZONE
TZID:Europe/Paris
BEGIN:DAYLIGHT
TZOFFSETFROM:+0100
TZOFFSETTO:+0200
TZNAME:CEST
DTSTART:20240331T010000
END:DAYLIGHT
BEGIN:STANDARD
TZOFFSETFROM:+0200
TZOFFSETTO:+0100
TZNAME:CET
DTSTART:20241027T010000
END:STANDARD
END:VTIMEZONE
BEGIN:VEVENT
DTSTART;TZID=Europe/Paris:20241005T133000
DTEND;TZID=Europe/Paris:20241005T233000
DTSTAMP:20260424T135324
CREATED:20240716T161603Z
LAST-MODIFIED:20240716T161651Z
UID:50461-1728135000-1728171000@mjclamaisoun.fr
SUMMARY:Fête des ondes #2
DESCRIPTION:Découvrez l’univers de la radio avec Radio Fil de l’Eau. – Rencontrez les animateurs·trices – Initiez-vous à la radio – Éduquez votre esprit critique. \n\n14h : Atelier « Les IA sont-elles créatives ? » – sur inscription\n14h30 : Les martins pêcheurs\, enregistrement de l’émission en direct : entre musique et humour\, le décalage sera au rendez-vous\n16h : Table ronde – L’Intelligence Artificielle… mais que veulent vraiment dire ces deux mots ? Il est temps de démystifier le terme « IA » pour mieux comprendre cette technologie et ses enjeux.\n17h30 : Cartes blanches musicales à Sylvie Benito et Jean-Pierre Lafitte (lecture en musique de textes de Raymond Devos) et à Jean-Claude ULIAN : L’Histoire et la Musique du Jazz et de la chanson française.\n18h30 : Micro-ouvert\, viens t’enregistrer (lecture\, chant…)\n19h : Apéro blind test avec Alex\n20h : Soirée concerts avec les Mus’Traveler et La Peau de l’Ours\nToute la journée : Sieste sonore\, Confortablement installé·e dans un hamac ou un sofa\, écoutez les mix d’Alex VRC ; Visite des studios d’enregistrement ; Enregistreur en accès libre ; Exposition  » Le matériel radiophonique à travers les âges  »\n\nEntrez libre ! – Tout public – Buvette et restauration sur place – événement retransmis en direct sur les 106.6FM (autour de L’Isle-Jourdain) et 100.9FM (à Fleurance) et sur www.radiofildeleau.fr \n  \n\n\nTous les détails du programme par ici !!
URL:https://mjclamaisoun.fr/event/fete-des-ondes-2/
CATEGORIES:Radio
ATTACH;FMTTYPE=image/jpeg:https://mjclamaisoun.fr/wp-content/uploads/2024/07/logo-fdOndes-scaled.jpg
END:VEVENT
END:VCALENDAR