BEGIN:VCALENDAR
VERSION:2.0
PRODID:-//MJC La maisoun - ECPv5.14.1//NONSGML v1.0//EN
CALSCALE:GREGORIAN
METHOD:PUBLISH
X-WR-CALNAME:MJC La maisoun
X-ORIGINAL-URL:https://mjclamaisoun.fr
X-WR-CALDESC:évènements pour MJC La maisoun
BEGIN:VTIMEZONE
TZID:Europe/Paris
BEGIN:DAYLIGHT
TZOFFSETFROM:+0100
TZOFFSETTO:+0200
TZNAME:CEST
DTSTART:20260329T010000
END:DAYLIGHT
BEGIN:STANDARD
TZOFFSETFROM:+0200
TZOFFSETTO:+0100
TZNAME:CET
DTSTART:20261025T010000
END:STANDARD
END:VTIMEZONE
BEGIN:VEVENT
DTSTART;TZID=Europe/Paris:20260605T180000
DTEND;TZID=Europe/Paris:20260605T233000
DTSTAMP:20260423T182820
CREATED:20250806T143128Z
LAST-MODIFIED:20250806T143423Z
UID:51088-1780682400-1780702200@mjclamaisoun.fr
SUMMARY:Fête de la Maisoun « Moi J’ai Concert »
DESCRIPTION:Vendredi 5 juin : « Moi J’ai Concert »\nDémonstrations et restitutions musicales des élèves (adultes et enfants) des sections guitare\, basse\, batterie et piano. \n19h-20h « Auditions » : restitutions musicales des élèves (adultes et enfants) des sections guitare\, basse\, batterie et piano \n20h30 – Concert des « Maisoun Jam & Cover »\, les élèves inscrits aux ateliers musicaux (guitare\, basse\, batterie\, piano et chant). Au programme\, du rock\, de la pop et de la chanson française ! \nEntrée libre – Restauration et buvette sur place \n\n\nDécouvrez le programme de samedi\n 
URL:https://mjclamaisoun.fr/event/fdm26/
CATEGORIES:Concert
ATTACH;FMTTYPE=image/png:https://mjclamaisoun.fr/wp-content/uploads/2024/10/MJC-fete-maisoun-23.png
END:VEVENT
END:VCALENDAR