BEGIN:VCALENDAR
VERSION:2.0
PRODID:-//MJC La maisoun - ECPv5.14.1//NONSGML v1.0//EN
CALSCALE:GREGORIAN
METHOD:PUBLISH
X-WR-CALNAME:MJC La maisoun
X-ORIGINAL-URL:https://mjclamaisoun.fr
X-WR-CALDESC:évènements pour MJC La maisoun
BEGIN:VTIMEZONE
TZID:Europe/Paris
BEGIN:DAYLIGHT
TZOFFSETFROM:+0100
TZOFFSETTO:+0200
TZNAME:CEST
DTSTART:20250330T010000
END:DAYLIGHT
BEGIN:STANDARD
TZOFFSETFROM:+0200
TZOFFSETTO:+0100
TZNAME:CET
DTSTART:20251026T010000
END:STANDARD
END:VTIMEZONE
BEGIN:VEVENT
DTSTART;TZID=Europe/Paris:20251108T210000
DTEND;TZID=Europe/Paris:20251109T160000
DTSTAMP:20260424T103553
CREATED:20250625T090816Z
LAST-MODIFIED:20251020T121520Z
UID:50908-1762635600-1762704000@mjclamaisoun.fr
SUMMARY:De l'autre côté - Théâtre
DESCRIPTION:Samedi 8 novembre 2025 à 21 h. Dimanche 9 novembre 2025 à 16 h. \nCela pourrait être un drame historique mais l’Ephémère a choisi d’en faire une comédie burlesque. \nPendant 28 ans les habitants de la douce République Socialiste de l’Allemagne de l’Est ont rêvé d’aller voir ce qui se passait de l’autre côté de ce fameux mur qui avait été bâti pour « défendre leur liberté ». \nMagda Schreber\, jeune femme romantique mais non dénuée de sens pratique\, rêve d’épouser son bel Helmut à Paris. Lui\, beaucoup moins téméraire\, n’y voit pas une nécessité absolue mais que ne ferait-on pas par amour ? Pour que ce rêve devienne réalité Magda imagine un stratagème original. Oui mais voilà\, même les plans les mieux élaborés se heurtent parfois à des aléas. Nos deux tourtereaux se retrouvent embringués dans des péripéties qui les dépassent où se mêlent la Stasi\, des agents secrets\, des espions de l’Ouest et même un fox-terrier à poil raz. \nC’est dans ce tourbillon de quiproquos\, de confusions et de situations absurdes que la troupe de l’Ephémère a décidé de vous entraîner en faisant la part belle au rire.   \nA l’occasion de la foire de la Saint-Martin Théâtre de l’Ephémère10€/8€/5€ \n\n\nRéservez vos places pour samedi\n\n\n\n\n\nRéservez vos places pour dimanche\n 
URL:https://mjclamaisoun.fr/event/de-l-autre-cote/
LOCATION:MJC
CATEGORIES:Théatre
ATTACH;FMTTYPE=image/jpeg:https://mjclamaisoun.fr/wp-content/uploads/2025/06/de-lautre-cote-photo.jpg
END:VEVENT
END:VCALENDAR