BEGIN:VCALENDAR
VERSION:2.0
PRODID:-//MJC La maisoun - ECPv5.14.1//NONSGML v1.0//EN
CALSCALE:GREGORIAN
METHOD:PUBLISH
X-WR-CALNAME:MJC La maisoun
X-ORIGINAL-URL:https://mjclamaisoun.fr
X-WR-CALDESC:évènements pour MJC La maisoun
BEGIN:VTIMEZONE
TZID:Europe/Paris
BEGIN:DAYLIGHT
TZOFFSETFROM:+0100
TZOFFSETTO:+0200
TZNAME:CEST
DTSTART:20240331T010000
END:DAYLIGHT
BEGIN:STANDARD
TZOFFSETFROM:+0200
TZOFFSETTO:+0100
TZNAME:CET
DTSTART:20241027T010000
END:STANDARD
END:VTIMEZONE
BEGIN:VEVENT
DTSTART;TZID=Europe/Paris:20241105T143000
DTEND;TZID=Europe/Paris:20241217T160000
DTSTAMP:20260424T015024
CREATED:20240717T084659Z
LAST-MODIFIED:20241021T143659Z
UID:50503-1730817000-1734451200@mjclamaisoun.fr
SUMMARY:Cours d'Histoire de l'Art – L'Art et les femmes
DESCRIPTION:les mardis 5\, 19\, 26 novembre\, 3\, 10\, et 17 décembre\nde 14h30 à 16h \nEn ce contexte marqué par la question de la place de la femme dans la société\, Charlotte de Malet propose un cycle de cours d’histoire de l’art qui questionnera la place que le monde de l’art a accordé aux femmes : modèles symboliques\, modèles physiques et les mille et une manières que les artistes ont eu de les représenter\, femmes d’artistes\, artistes elles-mêmes. L’objectif est d’aller regarder au-delà du simple constat d’une absence très très longue des femmes dans la création artistique générale. \nCe thème\, très transversal\, nous permettra de parcourir l’histoire générale de l’art\, en occident\, depuis la préhistoire jusqu’au monde le plus contemporain. \n50€ le module de 6 cours. Le cours 10€. \nInscription : au 05.62.07.21.06 – 07.71.56.48.95 ou contact@mjclamaisoun.fr \nLes Amants I\, René Magritte 1928\, Museum of Modern Art
URL:https://mjclamaisoun.fr/event/cours-ha-art-et-femmes/
CATEGORIES:Conférence,histoire,Stage
ATTACH;FMTTYPE=image/png:https://mjclamaisoun.fr/wp-content/uploads/2024/07/art-et-femme3.png
END:VEVENT
END:VCALENDAR