BEGIN:VCALENDAR
VERSION:2.0
PRODID:-//MJC La maisoun - ECPv5.14.1//NONSGML v1.0//EN
CALSCALE:GREGORIAN
METHOD:PUBLISH
X-WR-CALNAME:MJC La maisoun
X-ORIGINAL-URL:https://mjclamaisoun.fr
X-WR-CALDESC:évènements pour MJC La maisoun
BEGIN:VTIMEZONE
TZID:Europe/Paris
BEGIN:DAYLIGHT
TZOFFSETFROM:+0100
TZOFFSETTO:+0200
TZNAME:CEST
DTSTART:20260329T010000
END:DAYLIGHT
BEGIN:STANDARD
TZOFFSETFROM:+0200
TZOFFSETTO:+0100
TZNAME:CET
DTSTART:20261025T010000
END:STANDARD
END:VTIMEZONE
BEGIN:VEVENT
DTSTART;TZID=Europe/Paris:20260520T200000
DTEND;TZID=Europe/Paris:20260520T220000
DTSTAMP:20260423T210226
CREATED:20260108T131412Z
LAST-MODIFIED:20260108T132609Z
UID:51353-1779307200-1779314400@mjclamaisoun.fr
SUMMARY:Conférence histoire de l'art : Détours au pays du Soleil Levant\, le Japon radieux
DESCRIPTION:Archipel de plus de 6800 îles\, le Japon est voisine avec la Chine\, la Corée et la Russie. \nSes paysages poétiques\, ses sommets enneigés\, le Mont Fuji\, ses temples anciens\, ses sources chaudes\, ses villes animées… A la fois le pays de l’ultra-modernité et de la tradition\, il offre une variété de palettes qui séduit de plus en plus de visiteurs. \nPartons à la découverte du Japon radieux. \n\n\n\n\nConférence assurée par Myriam Pastor\, conférencière\, diplômée d’un master en histoire de l’art et d’un master en arts plastiques. Elle partage sa passion de l’art et vous permet de voir\, comprendre\, prendre le temps de vous immerger dans une œuvre pour vous l’approprier. Un voyage dans le temps et les arts.\n\nDès 15 ans – 10 € – gratuit moins de 18 ans\n\n\n\n\n\nBilletterie en ligne
URL:https://mjclamaisoun.fr/event/conference-histoire-de-lart-detours-au-pays-du-soleil-levant-le-japon-radieux/
LOCATION:MJC
CATEGORIES:arts,Conférence,histoire
ATTACH;FMTTYPE=image/jpeg:https://mjclamaisoun.fr/wp-content/uploads/2026/01/Miyajima-Hiroshima-Japon-dans-la-grande-entree-du-sanctuaire-d_Itsukushima.jpg
END:VEVENT
END:VCALENDAR