BEGIN:VCALENDAR
VERSION:2.0
PRODID:-//MJC La maisoun - ECPv5.14.1//NONSGML v1.0//EN
CALSCALE:GREGORIAN
METHOD:PUBLISH
X-WR-CALNAME:MJC La maisoun
X-ORIGINAL-URL:https://mjclamaisoun.fr
X-WR-CALDESC:évènements pour MJC La maisoun
BEGIN:VTIMEZONE
TZID:Europe/Paris
BEGIN:DAYLIGHT
TZOFFSETFROM:+0100
TZOFFSETTO:+0200
TZNAME:CEST
DTSTART:20230326T010000
END:DAYLIGHT
BEGIN:STANDARD
TZOFFSETFROM:+0200
TZOFFSETTO:+0100
TZNAME:CET
DTSTART:20231029T010000
END:STANDARD
END:VTIMEZONE
BEGIN:VEVENT
DTSTART;TZID=Europe/Paris:20231213T200000
DTEND;TZID=Europe/Paris:20231213T220000
DTSTAMP:20260424T225033
CREATED:20231113T162525Z
LAST-MODIFIED:20231120T135451Z
UID:49819-1702497600-1702504800@mjclamaisoun.fr
SUMMARY:Conférence histoire de l'Art - Alberto GIACOMETTI\, entre réel et imaginaire
DESCRIPTION:A l’honneur cet automne dans une grande exposition consacrée à une partie de son œuvre au musée des Abattoirs de Toulouse\, nous partirons à la découverte de la création d’Alberto Giacometti. Traversant tout le siècle\, avant tout sculpteur mais aussi peintre\, il a construit un œuvre profondément marqué par les événements et les pensées du XXe siècle. Des surréalistes à l’existentialisme de Sartre\, du communisme à Jean Genet et Thomas Beckett\, philosophie\, littérature\, poésie nourrissent ses œuvres autant que les arts du temps passé ou présent. Il est aujourd’hui l’une des grandes figures de la sculpture moderne. Plein tarif : 12 € / Tarif adhérent : 10 € / Tarif réduit : 6 € / gratuit (moins de 15 ans)   \nConférence de Charlotte de Malet \n\n\nEn savoir plus sur les cours et conférences d’histoire de l’Art\n\n\n\n  \nLa conférence peut être prolongée par une visite de l’exposition « Le temps de Giacometti (1946-1966) » aux Abattoirs\, Musée – Frac Occitanie Toulouse le jeudi 11 janvier 2024. \n\n\nEn savoir plus sur l’exposition\n\n\n 
URL:https://mjclamaisoun.fr/event/conference-histoire-de-lart-alberto-giacometti-entre-reel-et-imaginaire/
LOCATION:MJC
CATEGORIES:arts,Conférence,histoire
ATTACH;FMTTYPE=image/jpeg:https://mjclamaisoun.fr/wp-content/uploads/2023/11/giacometti.jpg
END:VEVENT
END:VCALENDAR