BEGIN:VCALENDAR
VERSION:2.0
PRODID:-//MJC La maisoun - ECPv5.14.1//NONSGML v1.0//EN
CALSCALE:GREGORIAN
METHOD:PUBLISH
X-WR-CALNAME:MJC La maisoun
X-ORIGINAL-URL:https://mjclamaisoun.fr
X-WR-CALDESC:évènements pour MJC La maisoun
BEGIN:VTIMEZONE
TZID:Europe/Paris
BEGIN:DAYLIGHT
TZOFFSETFROM:+0100
TZOFFSETTO:+0200
TZNAME:CEST
DTSTART:20260329T010000
END:DAYLIGHT
BEGIN:STANDARD
TZOFFSETFROM:+0200
TZOFFSETTO:+0100
TZNAME:CET
DTSTART:20261025T010000
END:STANDARD
END:VTIMEZONE
BEGIN:VEVENT
DTSTART;TZID=Europe/Paris:20260207T203000
DTEND;TZID=Europe/Paris:20260207T230000
DTSTAMP:20260424T063528
CREATED:20250806T133531Z
LAST-MODIFIED:20260202T074939Z
UID:51053-1770496200-1770505200@mjclamaisoun.fr
SUMMARY:Comedy club
DESCRIPTION:– RÉSERVEZ VITE\, C’EST PRESQUE COMPLET ! – \nStand-up Sam. 7 Février – 20h30 \nPlus d’une heure de stand-up avec des talents locaux (gersois et toulousains) : \nCélia – Blague de Trop\nLa nuit elle s’affiche sur scène tout sourire\, guitare en main\, sous le pseudo celiablaguedetrop\, mais le jour elle est aussi Docteure en physique quantique… l’association est peu commune ! Et c’set la marque de fabrique de Célia Pelluet :  faire de la recherche le sujet de ses stand up. Le but : parler de sciences évidemment mais aussi de son quotidien de chercheuse. Bardée de sa guitare et d’un ton désinvolte qui lui est propre\, elle enchaîne depuis quelques années les passages dans les Comedy Club. « J’ai toujours fait de la musique et aimé faire des blagues mais la passion de la scène est venue plus tard »\, \n \nPerrine Déza\nAvec son allure de jeune femme timide et inoffensive\, on lui donnerait le bon dieu sans confession. Pourtant elle pique et dézingue avec délectation ! Vous avez dit humour noir ? Pas tout à fait… Sous ce profil de jeune femme bien sous tous rapports\, Perrine dissimule un humour que l’on peut qualifier volontiers de cynique et incisif qui peut surprendre le quidam non averti. Sur le fil\, elle flirte parfois avec les limites de la bienséance\, le trash comme on dit aujourd’hui\, mais elle aborde ces sujets avec douceur et le sourire aux lèvres lors d’un spectacle tout en contraste. « J’aime l’humour un peu intelligent\, ou alors très con\, mais entre les deux\, je ne trouve pas ça très intéressant ». Ainsi \, des plus grandes questions philosophiques telles que « Peut-on rire de tout ? » aux plus anecdotiques « Comment pratiquer la street-drague ? » elle nous emmène d’un extrême à l’autre\, la matière de réflexion n’étant pas toujours là où on l’attend. Un spectacle qui défrise un peu pour les amoureux de la satire et des bons mots qui piquent. \nMatthis Bligny\nSon credo ? Jouer\, Rire\, Grandir ! Matthis vit pour faire marrer les gens\, ça le fait évoluer ! \n  \n  \n  \nMargot Demeurisse\nSes représentations explorent des sujets variés\, allant des expériences personnelles aux réflexions sur la société contemporaine\, en mêlant humour et auto-dérision. Margot Demeurisse a participé à plusieurs festivals et événements notables\, contribuant à sa visibilité sur la scène nationale. Aujourd’hui\, elle continue de se produire dans des théâtres et des soirées humoristiques à travers la France\, proposant un style qui allie énergie et réflexions accessibles\, souvent inspirées de ses observations sur la vie moderne. \n  \n  \n  \nSarah Frassanito\, initialement programmée est remplacée par Margot Demeurisse. \n\nEn partenariat avec les Fous rires gascons\, dans le cadre de L’Occitanie fait son stand-up\, 1er tremplin d’humour dédié à l’émergence d’humoriste d’Occitanie 12€/10€/6€ \nSoirée retransmise en direct sur Radio Fil de l’Eau \n\n\nBilletterie en ligne\n\n\nou 05 62 07 21 06 ou contact@mjclamaisoun.fr
URL:https://mjclamaisoun.fr/event/comedy-club/
CATEGORIES:autre,Théatre
ATTACH;FMTTYPE=image/png:https://mjclamaisoun.fr/wp-content/uploads/2025/08/comedy-club-.png
END:VEVENT
END:VCALENDAR