BEGIN:VCALENDAR
VERSION:2.0
PRODID:-//MJC La maisoun - ECPv5.14.1//NONSGML v1.0//EN
CALSCALE:GREGORIAN
METHOD:PUBLISH
X-WR-CALNAME:MJC La maisoun
X-ORIGINAL-URL:https://mjclamaisoun.fr
X-WR-CALDESC:évènements pour MJC La maisoun
BEGIN:VTIMEZONE
TZID:Europe/Paris
BEGIN:DAYLIGHT
TZOFFSETFROM:+0100
TZOFFSETTO:+0200
TZNAME:CEST
DTSTART:20260329T010000
END:DAYLIGHT
BEGIN:STANDARD
TZOFFSETFROM:+0200
TZOFFSETTO:+0100
TZNAME:CET
DTSTART:20261025T010000
END:STANDARD
END:VTIMEZONE
BEGIN:VEVENT
DTSTART;TZID=Europe/Paris:20260613T153000
DTEND;TZID=Europe/Paris:20260613T170000
DTSTAMP:20260423T154735
CREATED:20250807T085616Z
LAST-MODIFIED:20250807T085616Z
UID:51153-1781364600-1781370000@mjclamaisoun.fr
SUMMARY:Cirque en scène – spectacle de fin d’année
DESCRIPTION:Spectacle des élèves des ateliers cirque. \nSamedi 13 juin à 15h30. \nInscription nécessaire auprès de l’accueil (nombre de place limité). \n05 62 07 21 06 – 07 71 56 48 95 – contact@mjclamaisoun.fr
URL:https://mjclamaisoun.fr/event/cirque-en-scene-spectacle-de-fin-dannee-2/
CATEGORIES:cirque
ATTACH;FMTTYPE=image/jpeg:https://mjclamaisoun.fr/wp-content/uploads/2024/06/salut-public-scaled-e1718114164384.jpg
END:VEVENT
END:VCALENDAR