BEGIN:VCALENDAR
VERSION:2.0
PRODID:-//MJC La maisoun - ECPv5.14.1//NONSGML v1.0//EN
CALSCALE:GREGORIAN
METHOD:PUBLISH
X-WR-CALNAME:MJC La maisoun
X-ORIGINAL-URL:https://mjclamaisoun.fr
X-WR-CALDESC:évènements pour MJC La maisoun
BEGIN:VTIMEZONE
TZID:Europe/Paris
BEGIN:DAYLIGHT
TZOFFSETFROM:+0100
TZOFFSETTO:+0200
TZNAME:CEST
DTSTART:20240331T010000
END:DAYLIGHT
BEGIN:STANDARD
TZOFFSETFROM:+0200
TZOFFSETTO:+0100
TZNAME:CET
DTSTART:20241027T010000
END:STANDARD
END:VTIMEZONE
BEGIN:VEVENT
DTSTART;TZID=Europe/Paris:20241110T160000
DTEND;TZID=Europe/Paris:20241110T180000
DTSTAMP:20260425T000231
CREATED:20240717T083540Z
LAST-MODIFIED:20240717T084219Z
UID:50485-1731254400-1731261600@mjclamaisoun.fr
SUMMARY:Bastringue ou les histoires d’A...
DESCRIPTION:Week-end dédié au théâtre amateur\, à l’occasion de la Foire de la Saint-Martin \nPar le Théâtre de l’Epingle de Samatan \n \nLa vie est une tragédie grecque qui se rejoue éternellement.\nTandis que les personnages antiques ressassent leur drame chaque soir\, sur scène\, des musiciennes éclairent la pièce de leurs commentaires distanciés\, souvent ironiques.\n« Ce n’est pas triste\, la tragédie !» \nà partir de 15 ans \nAdaptation\, mise en scène : Patricia Lethiais \n10€/8€/5€\nAchetez votre billet en ligne ! \nou réservez vos places au 05.62.07.21.06 – 07.71.56.48.95 ou contact@mjclamaisoun.fr \n  \n\n\n\nRetrouvez aussi la veille : Le malade imaginaire
URL:https://mjclamaisoun.fr/event/bastringue-ou-les-histoires-da/
CATEGORIES:Théatre
ATTACH;FMTTYPE=image/jpeg:https://mjclamaisoun.fr/wp-content/uploads/2024/07/fred-photo-bastringue-scaled.jpg
END:VEVENT
END:VCALENDAR