BEGIN:VCALENDAR
VERSION:2.0
PRODID:-//MJC La maisoun - ECPv5.14.1//NONSGML v1.0//EN
CALSCALE:GREGORIAN
METHOD:PUBLISH
X-WR-CALNAME:MJC La maisoun
X-ORIGINAL-URL:https://mjclamaisoun.fr
X-WR-CALDESC:évènements pour MJC La maisoun
BEGIN:VTIMEZONE
TZID:Europe/Paris
BEGIN:DAYLIGHT
TZOFFSETFROM:+0100
TZOFFSETTO:+0200
TZNAME:CEST
DTSTART:20250330T010000
END:DAYLIGHT
BEGIN:STANDARD
TZOFFSETFROM:+0200
TZOFFSETTO:+0100
TZNAME:CET
DTSTART:20251026T010000
END:STANDARD
END:VTIMEZONE
BEGIN:VEVENT
DTSTART;TZID=Europe/Paris:20251020T093000
DTEND;TZID=Europe/Paris:20251022T170000
DTSTAMP:20260424T103139
CREATED:20250806T150923Z
LAST-MODIFIED:20250806T150923Z
UID:51110-1760952600-1761152400@mjclamaisoun.fr
SUMMARY:Atelier sculptures en papier mâché
DESCRIPTION:Pendant les vacances d’automne\, viens créer des sculptures\, masques ou objets de déco en papier mâché.\n \nDu lundi 20 au mercredi 22 octobre à la MJC \n\npour les 8/10 ans (9h30/12h30)\npour les +10 ans (14h/17h)\n\nLe papier mâché est une technique de construction simple avec du papier et de la colle. \nNous construirons des objets en 3 étapes : \n\ncréation de la structure\,\nfabrication et pose de la pâte en papier\,\ncoloration.\n\n75€ pour les 3 jours + 14€ d’adhésion \nInscriptions au 05 62 07 21 06 ou contact@mjclamaisoun.fr
URL:https://mjclamaisoun.fr/event/atelier-papier-mache-oct25/
CATEGORIES:arts,Stage
ATTACH;FMTTYPE=image/jpeg:https://mjclamaisoun.fr/wp-content/uploads/2025/03/tirelires.jpg
END:VEVENT
END:VCALENDAR