BEGIN:VCALENDAR
VERSION:2.0
PRODID:-//MJC La maisoun - ECPv5.14.1//NONSGML v1.0//EN
CALSCALE:GREGORIAN
METHOD:PUBLISH
X-WR-CALNAME:MJC La maisoun
X-ORIGINAL-URL:https://mjclamaisoun.fr
X-WR-CALDESC:évènements pour MJC La maisoun
BEGIN:VTIMEZONE
TZID:Europe/Paris
BEGIN:DAYLIGHT
TZOFFSETFROM:+0100
TZOFFSETTO:+0200
TZNAME:CEST
DTSTART:20250330T010000
END:DAYLIGHT
BEGIN:STANDARD
TZOFFSETFROM:+0200
TZOFFSETTO:+0100
TZNAME:CET
DTSTART:20251026T010000
END:STANDARD
END:VTIMEZONE
BEGIN:VEVENT
DTSTART;TZID=Europe/Paris:20251014T193000
DTEND;TZID=Europe/Paris:20251014T213000
DTSTAMP:20260424T115822
CREATED:20250807T074336Z
LAST-MODIFIED:20250807T080647Z
UID:51130-1760470200-1760477400@mjclamaisoun.fr
SUMMARY:Atelier “éviter les polluants dans mon environnement”
DESCRIPTION:Mardi 14 octobre de 19h30 à 21h30 \nActivités pratiques\, conseils concrets\, échanges bienveillants\, gestes simples pour un quotidien plus sain… le tout dans la bonne humeur ! Apprenez à repérer les éléments polluants de l’air intérieur (substances toxiques\, perturbateurs endocriniens\, pfas\, puf…)\, identifiez les alternatives saines ; transmettez vos connaissances et découvrez des ressources pour aller plus loin. \nAtelier animé par France Nature Environnement et le CPIE du Gers\, en partenariat avec l’association L’Isle-Jourdain En Transition (L’IJET). \nInscription nécessaire : par mail lijet@lislejourdainentransition.fr
URL:https://mjclamaisoun.fr/event/atelier-eviter-les-polluants-dans-mon-environnement/
CATEGORIES:autre,transition
ATTACH;FMTTYPE=image/png:https://mjclamaisoun.fr/wp-content/uploads/2025/08/immofix-origine-pollution-interieure.png
END:VEVENT
END:VCALENDAR