BEGIN:VCALENDAR
VERSION:2.0
PRODID:-//MJC La maisoun - ECPv5.14.1//NONSGML v1.0//EN
CALSCALE:GREGORIAN
METHOD:PUBLISH
X-WR-CALNAME:MJC La maisoun
X-ORIGINAL-URL:https://mjclamaisoun.fr
X-WR-CALDESC:évènements pour MJC La maisoun
BEGIN:VTIMEZONE
TZID:Europe/Paris
BEGIN:DAYLIGHT
TZOFFSETFROM:+0100
TZOFFSETTO:+0200
TZNAME:CEST
DTSTART:20250330T010000
END:DAYLIGHT
BEGIN:STANDARD
TZOFFSETFROM:+0200
TZOFFSETTO:+0100
TZNAME:CET
DTSTART:20251026T010000
END:STANDARD
END:VTIMEZONE
BEGIN:VEVENT
DTSTART;TZID=Europe/Paris:20251106T143000
DTEND;TZID=Europe/Paris:20251106T160000
DTSTAMP:20260424T091520
CREATED:20250806T091041Z
LAST-MODIFIED:20250806T092056Z
UID:50999-1762439400-1762444800@mjclamaisoun.fr
SUMMARY:L'animal dans l'art - Cours d'Histoire de l'Art #1 Des origines à nos jours
DESCRIPTION:Ce cycle d’histoire de l’art se déroule sur 6 séances. Il n’est pas nécessaire de les avoir toutes suivies. \nLes jeudis 6 ; 13 ; 20 novembre et les 4 ; 11 et 18 décembre\nDe 14h30 à 16h \nCompagnon fidèle. Animal qui fait peur. Infiniment petit ou démesurément grand. Fascinant ou dégoûtant. L’animal dans l’art témoigne de notre relation intime\, entre rivalité ou amitié\, domesticité ou liberté. Il est l’image de notre rapport au monde\, des évolutions sociétales\, de nos engagements moraux ou éthiques. Il inspire les artistes\, couvre les parois des grottes\, marque de son ombre un paysage recouvert de neige\, incarne le pouvoir. Ce thème universel balaie le temps\, les époques et les supports artistiques\, de la nuit des temps jusqu’aux expressions contemporaines. \nCe premier cours traitera du thème : Des origines à nos jours \nLes cours et conférences sont assurés par Myriam Pastor\, conférencière\, diplômée d’un master en histoire de l’art et d’un master en arts plastiques. Sa passion de l’art\, elle la partage en vous aidant à voir\, à comprendre\, à prendre le temps de s’immerger dans une oeuvre et de vous l’approprier. Un voyage dans le temps et les arts. \nThème des séances suivantes : \n\nLe bestiaire médiéval : jeudi 13 novembre\nArts et éthique animal (peut-on utiliser l’animal dans l’art ?) : jeudi 20 novembre\nLa plume dans l’art : jeudi 4 décembre\nAnimal fort/animal faible : jeudi 11 décembre\nMétamorphose/hybridation : jeudi 18 décembre\n\n56€ le cycle – 11€ le cours\nInscriptions appréciées : 05 62 07 21 06 ou contact@mjclamaisoun.fr
URL:https://mjclamaisoun.fr/event/animal-art-1/
CATEGORIES:arts,Conférence,histoire
ATTACH;FMTTYPE=image/jpeg:https://mjclamaisoun.fr/wp-content/uploads/2025/08/singe-.jpg
END:VEVENT
END:VCALENDAR