BEGIN:VCALENDAR
VERSION:2.0
PRODID:-//MJC La maisoun - ECPv5.14.1//NONSGML v1.0//EN
CALSCALE:GREGORIAN
METHOD:PUBLISH
X-WR-CALNAME:MJC La maisoun
X-ORIGINAL-URL:https://mjclamaisoun.fr
X-WR-CALDESC:évènements pour MJC La maisoun
BEGIN:VTIMEZONE
TZID:Europe/Paris
BEGIN:DAYLIGHT
TZOFFSETFROM:+0100
TZOFFSETTO:+0200
TZNAME:CEST
DTSTART:20260329T010000
END:DAYLIGHT
BEGIN:STANDARD
TZOFFSETFROM:+0200
TZOFFSETTO:+0100
TZNAME:CET
DTSTART:20261025T010000
END:STANDARD
END:VTIMEZONE
BEGIN:VEVENT
DTSTART;TZID=Europe/Paris:20260314T203000
DTEND;TZID=Europe/Paris:20260314T233000
DTSTAMP:20260424T014911
CREATED:20250701T130759Z
LAST-MODIFIED:20260303T143424Z
UID:50960-1773520200-1773531000@mjclamaisoun.fr
SUMMARY:A cheval sur le dos des oiseaux
DESCRIPTION:Spectacle dessiné  \nSamedi 14 Mars – 20h30 \nCie La langue écarlate A partir de 14 ans \nDurée 45 min \nRésumé du spectacle « À cheval sur le dos des oiseaux » est une création théâtrale de la compagnie La Langue Écarlate. Ce spectacle donne la parole à Carine Bielen\, une femme en situation de précarité\, souvent considérée comme « arriérée » par la société. Le texte\, écrit par Céline Delbecq\, explore son regard sur le monde et l’arrivée soudaine d’un nourrisson dans sa vie. \n\nElle s’appelle Carine Bielen. Le soir\, elle boit un petit verre de rouge pour dormir tranquille. Elle sait que l’alcool lui crée des problèmes. Elle ne se souvient même plus très bien comment elle a eu ce fils\, Logan. Mais il lui change la vie. \nAvec lui\, elle a reçu « le monde en entier »\, comme elle dit. A travers une parole intime\, ce monologue traverse l’histoire d’une femme issue d’un milieu précaire\, reléguée dès l’enfance vers une filière handicapée. D’un côté\, un système qui protège mais aussi qui décide et impose ses normes ; de l’autre\, des êtres qui sont écartés de leur propre histoire en raison précisément de ces normes aux limites toujours discutables. \nContexte de la compagnie La Langue Écarlate est une compagnie qui développe depuis plus de vingt ans des projets de création théâtrale et sonore\, ainsi que des actions culturelles à destination des adultes et des enfants. Ses œuvres naviguent entre documentaire et fiction. \nThèmes abordés Le spectacle aborde des thèmes tels que la précarité\, la liberté\, la maternité et la lutte pour la vérité personnelle. Il met en lumière le combat d’une femme pour s’exprimer et se faire entendre dans une société qui la marginalise. \nTexte de Céline Delbecq\, autrice qui a beaucoup travaillé avec des enfants et adolescents placés par le juge\, des autistes ou des jeunes psychotiques\, son objectif de travail est de dire les choses simplement\, sans chercher à les dénoncer ni à les intellectualiser. \nJeu : Nathalie Aftimos Dessin : Moreno Mise en scène : Hélène Mathon \n \n\nNous donnons une voix\, un corps\, un visage à Carine\, celui de la comédienne Nathalie Aftimos. Nous donnons un espace pour son histoire\, celui de l’aquarelle de Moreno\, Nous questionnons ainsi le regard porté sur Carine\, sur toutes les Carines. Cette histoire est-elle aussi notre histoire ? Qu’en est-il de l’empathie envers les Carine que nous croisons ? de notre capacité à les comprendre ? à aider ? Qui décide du destin de ces femmes ? Avons-nous en tant que spectateur une responsabilité ? […] Si nous décidons de ne pas laisser ces femmes dans l’ombre\, alors nous pouvons changer les choses. Ce spectacle est un appel à la solidarité\, à l’engagement et à la responsabilité collective. \nHélène Mathon\n \n12€/10€/6€ \n\n\nBilletterie en ligne\n\n\nou 05 62 07 21 06 ou contact@mjclamaisoun.fr \nDes actions culturelles seront proposées du 10 au 14 mars autour de thématiques fortes et engagées en lien avec la journée internationale des droits de la femme. En partenariat avec le service culture de la ville de L’Isle-Jourdain \nSemaine des droits des femmes\, la MJC La Maisoun impliquée \n  \n 
URL:https://mjclamaisoun.fr/event/a-cheval-sur-le-dos-des-oiseaux/
LOCATION:MJC
CATEGORIES:arts,autre,Théatre
ATTACH;FMTTYPE=image/jpeg:https://mjclamaisoun.fr/wp-content/uploads/2025/07/A-cheval-sur-le-dos-des-oiseaux-credit-MORENO.jpeg
END:VEVENT
END:VCALENDAR