BEGIN:VCALENDAR
VERSION:2.0
PRODID:-//MJC La maisoun - ECPv5.14.1//NONSGML v1.0//EN
CALSCALE:GREGORIAN
METHOD:PUBLISH
X-WR-CALNAME:MJC La maisoun
X-ORIGINAL-URL:https://mjclamaisoun.fr
X-WR-CALDESC:évènements pour MJC La maisoun
BEGIN:VTIMEZONE
TZID:Europe/Paris
BEGIN:DAYLIGHT
TZOFFSETFROM:+0100
TZOFFSETTO:+0200
TZNAME:CEST
DTSTART:20260329T010000
END:DAYLIGHT
BEGIN:STANDARD
TZOFFSETFROM:+0200
TZOFFSETTO:+0100
TZNAME:CET
DTSTART:20261025T010000
END:STANDARD
END:VTIMEZONE
BEGIN:VEVENT
DTSTART;TZID=Europe/Paris:20260531T153000
DTEND;TZID=Europe/Paris:20260531T170000
DTSTAMP:20260423T195213
CREATED:20250807T085416Z
LAST-MODIFIED:20250807T085416Z
UID:51151-1780241400-1780246800@mjclamaisoun.fr
SUMMARY:1ers pas en danse – spectacle de fin d’année
DESCRIPTION:Spectacle de restitution des élèves des ateliers « danse initiation » \nLa fin d’année donne lieu à la fête et au retour sur le travail et les progrès la saison passée. Venez assister aux restitutions du travail effectué cette saison par nos jeunes danseuses. \nDimanche 31 mai \nArrivée des danseur·se·s à 15h\, Spectacle à 15h30\, suivi d’un gouter partagé (les parents amènent des douceurs\, la MJC fourni les boissons) \nNombre de places limité\, pensez à réserver au 05 62 07 21 06 ou contact@mjclamaisoun.fr
URL:https://mjclamaisoun.fr/event/1ers-pas-en-danse-spectacle-de-fin-dannee-2/
CATEGORIES:Danse
ATTACH;FMTTYPE=image/jpeg:https://mjclamaisoun.fr/wp-content/uploads/2022/06/ecole-danse-pour-enfants-ballet-hiphop-rue-danseurs-funky-modernes-scaled.jpg
END:VEVENT
END:VCALENDAR